BEGIN:VCALENDAR
VERSION:2.0
PRODID:-//Portal de Juventud - ECPv6.15.14//NONSGML v1.0//EN
CALSCALE:GREGORIAN
METHOD:PUBLISH
X-ORIGINAL-URL:https://juventud.ayto-caceres.es
X-WR-CALDESC:Eventos para Portal de Juventud
REFRESH-INTERVAL;VALUE=DURATION:PT1H
X-Robots-Tag:noindex
X-PUBLISHED-TTL:PT1H
BEGIN:VTIMEZONE
TZID:Europe/Madrid
BEGIN:DAYLIGHT
TZOFFSETFROM:+0100
TZOFFSETTO:+0200
TZNAME:CEST
DTSTART:20250330T010000
END:DAYLIGHT
BEGIN:STANDARD
TZOFFSETFROM:+0200
TZOFFSETTO:+0100
TZNAME:CET
DTSTART:20251026T010000
END:STANDARD
BEGIN:DAYLIGHT
TZOFFSETFROM:+0100
TZOFFSETTO:+0200
TZNAME:CEST
DTSTART:20260329T010000
END:DAYLIGHT
BEGIN:STANDARD
TZOFFSETFROM:+0200
TZOFFSETTO:+0100
TZNAME:CET
DTSTART:20261025T010000
END:STANDARD
BEGIN:DAYLIGHT
TZOFFSETFROM:+0100
TZOFFSETTO:+0200
TZNAME:CEST
DTSTART:20270328T010000
END:DAYLIGHT
BEGIN:STANDARD
TZOFFSETFROM:+0200
TZOFFSETTO:+0100
TZNAME:CET
DTSTART:20271031T010000
END:STANDARD
END:VTIMEZONE
BEGIN:VEVENT
DTSTART;TZID=Europe/Madrid:20260417T210000
DTEND;TZID=Europe/Madrid:20260417T220000
DTSTAMP:20260420T120100
CREATED:20260415T110902Z
LAST-MODIFIED:20260415T110902Z
UID:10012024-1776459600-1776463200@juventud.ayto-caceres.es
SUMMARY:Música y Artes Visuales "Ecos Reflejos"
DESCRIPTION:
URL:https://juventud.ayto-caceres.es/evento/musica-y-artes-visuales-ecos-reflejos/
LOCATION:La Nave del Duende\, Polígono la Cañada 1\, Casar de Cáceres\, 10190\, España
CATEGORIES:Música
ATTACH;FMTTYPE=image/jpeg:https://juventud.ayto-caceres.es/wp-content/uploads/2026/04/Nave-1.jpg
END:VEVENT
BEGIN:VEVENT
DTSTART;TZID=Europe/Madrid:20260417T210000
DTEND;TZID=Europe/Madrid:20260417T223000
DTSTAMP:20260420T120100
CREATED:20260413T091718Z
LAST-MODIFIED:20260413T091718Z
UID:10012009-1776459600-1776465000@juventud.ayto-caceres.es
SUMMARY:Concierto "Victor Manuel\, Solo a Solas Conmigo"
DESCRIPTION:
URL:https://juventud.ayto-caceres.es/evento/concierto-victor-manuel-solo-a-solas-conmigo/
LOCATION:Gran Teatro Cáceres\, C. San Antón\, 10\, Cáceres\, Cáceres\, 10003\, España
CATEGORIES:Música
ATTACH;FMTTYPE=image/jpeg:https://juventud.ayto-caceres.es/wp-content/uploads/2026/04/Gran-Teatro-1.jpg
END:VEVENT
BEGIN:VEVENT
DTSTART;TZID=Europe/Madrid:20260417T210000
DTEND;TZID=Europe/Madrid:20260417T223000
DTSTAMP:20260420T120100
CREATED:20260413T101652Z
LAST-MODIFIED:20260413T101652Z
UID:10012017-1776459600-1776465000@juventud.ayto-caceres.es
SUMMARY:Concierto "Nito Serrano y Lapurasangre"
DESCRIPTION:
URL:https://juventud.ayto-caceres.es/evento/concierto-nito-serrano-y-lapurasangre-2/
LOCATION:El Corral de las Cigüeñas\, Cta. de Aldana\, 6\, Cáceres\, 10003\, España
CATEGORIES:Música
ATTACH;FMTTYPE=image/jpeg:https://juventud.ayto-caceres.es/wp-content/uploads/2026/04/Corral-1.jpg
END:VEVENT
BEGIN:VEVENT
DTSTART;TZID=Europe/Madrid:20260417T210000
DTEND;TZID=Europe/Madrid:20260417T230000
DTSTAMP:20260420T120100
CREATED:20260413T093613Z
LAST-MODIFIED:20260413T093613Z
UID:10012012-1776459600-1776466800@juventud.ayto-caceres.es
SUMMARY:Black Lions Desertores
DESCRIPTION:
URL:https://juventud.ayto-caceres.es/evento/black-lions-desertores/
LOCATION:Boogaloo Club Cáceres\, Cáceres
CATEGORIES:Música
ATTACH;FMTTYPE=image/jpeg:https://juventud.ayto-caceres.es/wp-content/uploads/2026/04/Boo-2.jpg
END:VEVENT
BEGIN:VEVENT
DTSTART;TZID=Europe/Madrid:20260418T120000
DTEND;TZID=Europe/Madrid:20260418T130000
DTSTAMP:20260420T120100
CREATED:20260413T083148Z
LAST-MODIFIED:20260413T083148Z
UID:10012005-1776513600-1776517200@juventud.ayto-caceres.es
SUMMARY:Teatro "Antes de Cervantes"
DESCRIPTION:
URL:https://juventud.ayto-caceres.es/evento/teatro-antes-de-cervantes/
LOCATION:Biblioteca Pública de Cáceres\, C. Alfonso IX\, 26\, Cáceres\, Cáceres\, 10004\, España
CATEGORIES:Cultura
ATTACH;FMTTYPE=image/png:https://juventud.ayto-caceres.es/wp-content/uploads/2026/04/Biblio-2.png
END:VEVENT
BEGIN:VEVENT
DTSTART;TZID=Europe/Madrid:20260418T120000
DTEND;TZID=Europe/Madrid:20260418T193000
DTSTAMP:20260420T120100
CREATED:20260413T100758Z
LAST-MODIFIED:20260413T100758Z
UID:10012014-1776513600-1776540600@juventud.ayto-caceres.es
SUMMARY:KDK Cáceres de Calle
DESCRIPTION:FESTIVAL DE TEATRO DE CALLE DE CÁCERES \nSábado 18.  \n12.00h. PARQUE GLORIA FUERTES. «Cuentacuentos La Cuentaleta» \n18.00 h. CALLE SAN PEDRO. FRENTE AL TEATRO. «Wasa» \n19.30H. Aprox FORO DE LOS BALBOS «Tentación Divina» \nDomingo 19. \n12.00 h. PARQUE GLORIA FUERTES. «Cuentacuentos. El Druida de las Historias» \n18.00 h. CALLE SAN PEDRO. FRENTE AL TEATRO. «Sinapsis» \n19.30 h. Aprox PLAZA MAYOR DE CÁCERES. «Carman» \n 
URL:https://juventud.ayto-caceres.es/evento/kdk-caceres-de-calle/2026-04-18/
LOCATION:Cáceres
CATEGORIES:Cultura
ATTACH;FMTTYPE=image/png:https://juventud.ayto-caceres.es/wp-content/uploads/2026/04/KDK.png
END:VEVENT
BEGIN:VEVENT
DTSTART;TZID=Europe/Madrid:20260418T180000
DTEND;TZID=Europe/Madrid:20260418T193000
DTSTAMP:20260420T120100
CREATED:20260414T070307Z
LAST-MODIFIED:20260414T083741Z
UID:10012020-1776535200-1776540600@juventud.ayto-caceres.es
SUMMARY:Concierto "No hay Pop3 sin 3"
DESCRIPTION:
URL:https://juventud.ayto-caceres.es/evento/concierto-no-hay-pop3-sin-3/
LOCATION:Mastropiero\, C/ Fuente Nueva\, 4\, Cáceres\, CÁCERES\, 10002\, España
CATEGORIES:Música
ATTACH;FMTTYPE=image/jpeg:https://juventud.ayto-caceres.es/wp-content/uploads/2026/04/Mastro.jpeg
END:VEVENT
BEGIN:VEVENT
DTSTART;TZID=Europe/Madrid:20260418T180000
DTEND;TZID=Europe/Madrid:20260418T193000
DTSTAMP:20260420T120100
CREATED:20260414T115733Z
LAST-MODIFIED:20260414T115733Z
UID:10012022-1776535200-1776540600@juventud.ayto-caceres.es
SUMMARY:Concierto "Sopayaso. Tributo a Extremoduro"
DESCRIPTION:
URL:https://juventud.ayto-caceres.es/evento/concierto-sopayaso-tributo-a-extremoduro/
LOCATION:Casa Palacchio\, C. Cta. de la Compañía\,\, Cáceres\, CÁCERES\, 10003\, España
CATEGORIES:Música
ATTACH;FMTTYPE=image/jpeg:https://juventud.ayto-caceres.es/wp-content/uploads/2026/04/Palachio.jpeg
END:VEVENT
BEGIN:VEVENT
DTSTART;TZID=Europe/Madrid:20260418T203000
DTEND;TZID=Europe/Madrid:20260418T213000
DTSTAMP:20260420T120100
CREATED:20260413T101041Z
LAST-MODIFIED:20260413T101041Z
UID:10012016-1776544200-1776547800@juventud.ayto-caceres.es
SUMMARY:La Escena se Asoma
DESCRIPTION:
URL:https://juventud.ayto-caceres.es/evento/la-escena-se-asoma/
LOCATION:Gran Teatro Cáceres\, C. San Antón\, 10\, Cáceres\, Cáceres\, 10003\, España
CATEGORIES:Cultura
ATTACH;FMTTYPE=image/png:https://juventud.ayto-caceres.es/wp-content/uploads/2026/04/Gran-Teatro.png
END:VEVENT
BEGIN:VEVENT
DTSTART;TZID=Europe/Madrid:20260418T210000
DTEND;TZID=Europe/Madrid:20260418T220000
DTSTAMP:20260420T120100
CREATED:20260415T111102Z
LAST-MODIFIED:20260415T111102Z
UID:10012025-1776546000-1776549600@juventud.ayto-caceres.es
SUMMARY:Teatro "Palabras Rotas"
DESCRIPTION:
URL:https://juventud.ayto-caceres.es/evento/teatro-palabras-rotas/2026-04-18/
LOCATION:La Nave del Duende\, Polígono la Cañada 1\, Casar de Cáceres\, 10190\, España
CATEGORIES:Cultura
ATTACH;FMTTYPE=image/jpeg:https://juventud.ayto-caceres.es/wp-content/uploads/2026/04/Nave-2.jpg
END:VEVENT
BEGIN:VEVENT
DTSTART;TZID=Europe/Madrid:20260418T210000
DTEND;TZID=Europe/Madrid:20260418T233000
DTSTAMP:20260420T120100
CREATED:20260413T093807Z
LAST-MODIFIED:20260413T093807Z
UID:10012013-1776546000-1776555000@juventud.ayto-caceres.es
SUMMARY:Gilipojazz
DESCRIPTION:
URL:https://juventud.ayto-caceres.es/evento/gilipojazz/
LOCATION:Boogaloo Club Cáceres\, Cáceres
CATEGORIES:Música
ATTACH;FMTTYPE=image/jpeg:https://juventud.ayto-caceres.es/wp-content/uploads/2026/04/Boo-3.jpg
END:VEVENT
BEGIN:VEVENT
DTSTART;TZID=Europe/Madrid:20260420T183000
DTEND;TZID=Europe/Madrid:20260420T193000
DTSTAMP:20260420T120101
CREATED:20260420T075930Z
LAST-MODIFIED:20260420T075930Z
UID:10012406-1776709800-1776713400@juventud.ayto-caceres.es
SUMMARY:Hablemos de poesía
DESCRIPTION:
URL:https://juventud.ayto-caceres.es/evento/hablemos-de-poesia-8/
LOCATION:Biblioteca Pública de Cáceres\, C. Alfonso IX\, 26\, Cáceres\, Cáceres\, 10004\, España
CATEGORIES:Cultura
ATTACH;FMTTYPE=image/png:https://juventud.ayto-caceres.es/wp-content/uploads/2026/04/HABLEMOS-DE-POESIA-2024-2025.png
END:VEVENT
BEGIN:VEVENT
DTSTART;TZID=Europe/Madrid:20260420T190000
DTEND;TZID=Europe/Madrid:20260420T203000
DTSTAMP:20260420T120101
CREATED:20260420T075444Z
LAST-MODIFIED:20260420T075708Z
UID:10012405-1776711600-1776717000@juventud.ayto-caceres.es
SUMMARY:Charla "Agricultura y alimentación en Extremadura: políticas públicas\, sostenibilidad y conflicto"
DESCRIPTION:Ponente: Begoña García Bernal\, Secretaria de Estado de Agricultura y Alimentación.\nModerador: Marcelo Sánchez-Oro Sánchez\, profesor de Sociología y Secretario de ACISE\n\n\nlunes 20 de abril. 19:00 h\nAteneo de Cáceres – Gral Ezponda\, 9\nAcceso libre
URL:https://juventud.ayto-caceres.es/evento/charla-agricultura-y-alimentacion-en-extremadura-politicas-publicas-sostenibilidad-y-conflicto/
LOCATION:Ateneo de Cáceres\, Calle Gral. Ezponda\, 9\, Cáceres\, Cáceres\, 10003\, España
CATEGORIES:Cultura
ATTACH;FMTTYPE=image/jpeg:https://juventud.ayto-caceres.es/wp-content/uploads/2026/04/Ateneo-3.jpg
END:VEVENT
BEGIN:VEVENT
DTSTART;TZID=Europe/Madrid:20260421T193000
DTEND;TZID=Europe/Madrid:20260507T170000
DTSTAMP:20260420T120101
CREATED:20260420T075252Z
LAST-MODIFIED:20260420T075252Z
UID:10012404-1776799800-1778173200@juventud.ayto-caceres.es
SUMMARY:Exposición de Grabados
DESCRIPTION:La fuerza expresiva de Nieves García Marcos llega al Patio del Ateneo de Cáceres con una destacada muestra de grabados. Del 21 de abril al 7 de mayo\, el público podrá sumergirse en su universo creativo con entrada libre.La inauguración será el 21 de abril a las 19:30 h\, una cita imprescindible para amantes del arte. Horario de visita: 17:30 h – 21:30 h.Una propuesta que invita a contemplar la sutileza técnica y la sensibilidad de su obra.
URL:https://juventud.ayto-caceres.es/evento/exposicion-de-grabados/
LOCATION:Ateneo de Cáceres\, Calle Gral. Ezponda\, 9\, Cáceres\, Cáceres\, 10003\, España
CATEGORIES:Exposiciones
ATTACH;FMTTYPE=image/jpeg:https://juventud.ayto-caceres.es/wp-content/uploads/2026/04/Ateneo-2.jpg
END:VEVENT
BEGIN:VEVENT
DTSTART;TZID=Europe/Madrid:20260421T203000
DTEND;TZID=Europe/Madrid:20260421T220000
DTSTAMP:20260420T120101
CREATED:20260420T073156Z
LAST-MODIFIED:20260420T073156Z
UID:10012402-1776803400-1776808800@juventud.ayto-caceres.es
SUMMARY:Cine "Águilas de El Cairo"
DESCRIPTION:Águilas de El Cairo\nCiclo: Clásicos de la Filmoteca
URL:https://juventud.ayto-caceres.es/evento/cine-aguilas-de-el-cairo/
LOCATION:Filmoteca Extremadura\, C. Rincón de la Monja\, 6\, Cáceres\, Cáceres\, 10003\, España
CATEGORIES:Cine
ATTACH;FMTTYPE=image/jpeg:https://juventud.ayto-caceres.es/wp-content/uploads/2026/04/Filmo-2.jpg
END:VEVENT
BEGIN:VEVENT
DTSTART;TZID=Europe/Madrid:20260424T203000
DTEND;TZID=Europe/Madrid:20260424T220000
DTSTAMP:20260420T120101
CREATED:20260420T074839Z
LAST-MODIFIED:20260420T074839Z
UID:10012403-1777062600-1777068000@juventud.ayto-caceres.es
SUMMARY:Cine "Rondallas". Filmoteca
DESCRIPTION:
URL:https://juventud.ayto-caceres.es/evento/cine-rondallas-filmoteca/
LOCATION:Filmoteca Extremadura\, C. Rincón de la Monja\, 6\, Cáceres\, Cáceres\, 10003\, España
CATEGORIES:Cine
ATTACH;FMTTYPE=image/jpeg:https://juventud.ayto-caceres.es/wp-content/uploads/2026/04/Filmo-3.jpg
END:VEVENT
END:VCALENDAR