BEGIN:VCALENDAR
VERSION:2.0
PRODID:-//Portal de Juventud - ECPv6.15.14//NONSGML v1.0//EN
CALSCALE:GREGORIAN
METHOD:PUBLISH
X-WR-CALNAME:Portal de Juventud
X-ORIGINAL-URL:https://juventud.ayto-caceres.es
X-WR-CALDESC:Eventos para Portal de Juventud
REFRESH-INTERVAL;VALUE=DURATION:PT1H
X-Robots-Tag:noindex
X-PUBLISHED-TTL:PT1H
BEGIN:VTIMEZONE
TZID:Europe/Madrid
BEGIN:DAYLIGHT
TZOFFSETFROM:+0100
TZOFFSETTO:+0200
TZNAME:CEST
DTSTART:20250330T010000
END:DAYLIGHT
BEGIN:STANDARD
TZOFFSETFROM:+0200
TZOFFSETTO:+0100
TZNAME:CET
DTSTART:20251026T010000
END:STANDARD
BEGIN:DAYLIGHT
TZOFFSETFROM:+0100
TZOFFSETTO:+0200
TZNAME:CEST
DTSTART:20260329T010000
END:DAYLIGHT
BEGIN:STANDARD
TZOFFSETFROM:+0200
TZOFFSETTO:+0100
TZNAME:CET
DTSTART:20261025T010000
END:STANDARD
BEGIN:DAYLIGHT
TZOFFSETFROM:+0100
TZOFFSETTO:+0200
TZNAME:CEST
DTSTART:20270328T010000
END:DAYLIGHT
BEGIN:STANDARD
TZOFFSETFROM:+0200
TZOFFSETTO:+0100
TZNAME:CET
DTSTART:20271031T010000
END:STANDARD
END:VTIMEZONE
BEGIN:VEVENT
DTSTART;TZID=Europe/Madrid:20260319T193000
DTEND;TZID=Europe/Madrid:20260517T170000
DTSTAMP:20260421T115353
CREATED:20260318T103533Z
LAST-MODIFIED:20260318T103533Z
UID:10011908-1773948600-1779037200@juventud.ayto-caceres.es
SUMMARY:Exposición "Armonía"
DESCRIPTION:
URL:https://juventud.ayto-caceres.es/evento/exposicion-armonia/
LOCATION:La Sindicalista Estudio\, Calle Roso de Luna\, 15\, Cáceres\, Cáceres\, 10003\, España
CATEGORIES:Exposiciones
ATTACH;FMTTYPE=image/jpeg:https://juventud.ayto-caceres.es/wp-content/uploads/2026/03/Armonia.jpg
END:VEVENT
BEGIN:VEVENT
DTSTART;TZID=Europe/Madrid:20260327T100000
DTEND;TZID=Europe/Madrid:20260502T170000
DTSTAMP:20260421T115353
CREATED:20260326T091008Z
LAST-MODIFIED:20260326T091008Z
UID:10011955-1774605600-1777741200@juventud.ayto-caceres.es
SUMMARY:Ve y Ve - Exposición María Fernández
DESCRIPTION:
URL:https://juventud.ayto-caceres.es/evento/ve-y-ve-exposicion-maria-fernandez/
LOCATION:Sala Arte Brocense\, C. San Antón\, 17\, Cáceres\, Cáceres\, 10003
CATEGORIES:Exposiciones
ATTACH;FMTTYPE=image/jpeg:https://juventud.ayto-caceres.es/wp-content/uploads/2026/03/Brocense.jpg
END:VEVENT
BEGIN:VEVENT
DTSTART;TZID=Europe/Madrid:20260416T190000
DTEND;TZID=Europe/Madrid:20260425T210000
DTSTAMP:20260421T115353
CREATED:20260416T130029Z
LAST-MODIFIED:20260416T130035Z
UID:10012034-1776366000-1777150800@juventud.ayto-caceres.es
SUMMARY:Eventos San Jorge Cáceres 2026
DESCRIPTION:Desde el jueves\, 16 abril de 2026 a las 19:00 h hasta el sábado 25 abril 2026 a las 21:00 h\n\nTradición\, historia y ciudad en una de las celebraciones más emblemáticas de Cáceres. \nDurante varios días\, la programación de San Jorge llena el casco histórico de actos simbólicos: pregón\, colocación de la bandera\, traslado del pendón y la tradicional procesión cívica del 23 de abril\, momento central de la celebración. \nEl programa se completa con propuestas culturales y actos institucionales que conectan el pasado de la ciudad con su vida actual. \nFechas: del 16 al 25 de abril\nLugar: distintos espacios del casco histórico \nUna cita imprescindible para vivir una de las grandes tradiciones de Cáceres.
URL:https://juventud.ayto-caceres.es/evento/eventos-san-jorge-caceres-2026-2/
LOCATION:Ayuntamiento de Cáceres\, Pl. Mayor\, 1\, Cáceres\, Cáceres\, 10003\, España
CATEGORIES:Otras
ATTACH;FMTTYPE=image/jpeg:https://juventud.ayto-caceres.es/wp-content/uploads/2026/04/19e313a1d5dfd7b2c6fd48d0256bb2ae-large.jpg
ORGANIZER;CN="Ayuntamiento de C%C3%A1ceres":MAILTO:informacion@ayto-caceres.es
END:VEVENT
BEGIN:VEVENT
DTSTART;TZID=Europe/Madrid:20260421T110000
DTEND;TZID=Europe/Madrid:20260502T210000
DTSTAMP:20260421T115353
CREATED:20260420T104434Z
LAST-MODIFIED:20260420T104445Z
UID:10012410-1776769200-1777755600@juventud.ayto-caceres.es
SUMMARY:Feria del libro 2026
DESCRIPTION:
URL:https://juventud.ayto-caceres.es/evento/feria-del-libro/
LOCATION:Paseo de Cánovas\, Av. España\, Cáceres\, Cáceres\, 10002\, España
CATEGORIES:Cultura
ATTACH;FMTTYPE=image/jpeg:https://juventud.ayto-caceres.es/wp-content/uploads/2026/04/Feria-del-libro.jpg
END:VEVENT
BEGIN:VEVENT
DTSTART;TZID=Europe/Madrid:20260421T193000
DTEND;TZID=Europe/Madrid:20260507T170000
DTSTAMP:20260421T115353
CREATED:20260420T075252Z
LAST-MODIFIED:20260420T075252Z
UID:10012404-1776799800-1778173200@juventud.ayto-caceres.es
SUMMARY:Exposición de Grabados
DESCRIPTION:La fuerza expresiva de Nieves García Marcos llega al Patio del Ateneo de Cáceres con una destacada muestra de grabados. Del 21 de abril al 7 de mayo\, el público podrá sumergirse en su universo creativo con entrada libre.La inauguración será el 21 de abril a las 19:30 h\, una cita imprescindible para amantes del arte. Horario de visita: 17:30 h – 21:30 h.Una propuesta que invita a contemplar la sutileza técnica y la sensibilidad de su obra.
URL:https://juventud.ayto-caceres.es/evento/exposicion-de-grabados/
LOCATION:Ateneo de Cáceres\, Calle Gral. Ezponda\, 9\, Cáceres\, Cáceres\, 10003\, España
CATEGORIES:Exposiciones
ATTACH;FMTTYPE=image/jpeg:https://juventud.ayto-caceres.es/wp-content/uploads/2026/04/Ateneo-2.jpg
END:VEVENT
BEGIN:VEVENT
DTSTART;TZID=Europe/Madrid:20260422T180000
DTEND;TZID=Europe/Madrid:20260422T200000
DTSTAMP:20260421T115353
CREATED:20260420T103230Z
LAST-MODIFIED:20260420T103230Z
UID:10012407-1776880800-1776888000@juventud.ayto-caceres.es
SUMMARY:"Cinemundo. Proyectar en un campo de islas"
DESCRIPTION:
URL:https://juventud.ayto-caceres.es/evento/cinemundo-proyectar-en-un-campo-de-islas/
LOCATION:Museo de Arte Contemporáneo Helga de Alvear\, Calle Pizarro\, 8\, Cáceres\, Cáceres\, 10003\, España
CATEGORIES:Cine
ATTACH;FMTTYPE=image/jpeg:https://juventud.ayto-caceres.es/wp-content/uploads/2026/04/Helga-1.jpg
END:VEVENT
BEGIN:VEVENT
DTSTART;TZID=Europe/Madrid:20260422T210000
DTEND;TZID=Europe/Madrid:20260422T223000
DTSTAMP:20260421T115353
CREATED:20260406T072821Z
LAST-MODIFIED:20260406T072821Z
UID:10011972-1776891600-1776897000@juventud.ayto-caceres.es
SUMMARY:Habla de Cine #42 · Sesión 1 · Proyección y coloquio de: "El dinero de judas" 1915
DESCRIPTION:8 de abril. Fragmentos de Cleopatra\, de J. Gordon Edwards\, 1917 · El dinero de Judas\, de Victor Sjöström\, 1915 (40 min) \n15 de abril. Too much Johnson\, de Orson Welles\, 1938 (67 min.) \n22 de abril. Decasia\, de Bill Morrison\, 2002(70 min.)
URL:https://juventud.ayto-caceres.es/evento/habla-de-cine-42-%c2%b7-sesion-1-%c2%b7-proyeccion-y-coloquio-de-el-dinero-de-judas-1915/2026-04-22/
LOCATION:Taberna Sir Lancelot Cáceres\, C. de la Monja\, 2\, Cáceres\, Cáceres\, 10003
CATEGORIES:Cine
ATTACH;FMTTYPE=image/png:https://juventud.ayto-caceres.es/wp-content/uploads/2026/04/Habla.png
END:VEVENT
BEGIN:VEVENT
DTSTART;TZID=Europe/Madrid:20260423T203000
DTEND;TZID=Europe/Madrid:20260423T220000
DTSTAMP:20260421T115353
CREATED:20260421T083603Z
LAST-MODIFIED:20260421T083603Z
UID:10012415-1776976200-1776981600@juventud.ayto-caceres.es
SUMMARY:Gala Centenario Gran Teatro
DESCRIPTION:
URL:https://juventud.ayto-caceres.es/evento/gala-centenario-gran-teatro/
LOCATION:Gran Teatro Cáceres\, C. San Antón\, 10\, Cáceres\, Cáceres\, 10003\, España
CATEGORIES:Cultura
ATTACH;FMTTYPE=image/jpeg:https://juventud.ayto-caceres.es/wp-content/uploads/2026/04/Gala.jpg
END:VEVENT
BEGIN:VEVENT
DTSTART;TZID=Europe/Madrid:20260424T200000
DTEND;TZID=Europe/Madrid:20260424T220000
DTSTAMP:20260421T115353
CREATED:20260420T103952Z
LAST-MODIFIED:20260420T103952Z
UID:10012409-1777060800-1777068000@juventud.ayto-caceres.es
SUMMARY:Helga DJ´s Session
DESCRIPTION:
URL:https://juventud.ayto-caceres.es/evento/helga-djs-session/
LOCATION:Museo de Arte Contemporáneo Helga de Alvear\, Calle Pizarro\, 8\, Cáceres\, Cáceres\, 10003\, España
CATEGORIES:Música
ATTACH;FMTTYPE=image/png:https://juventud.ayto-caceres.es/wp-content/uploads/2026/04/Helga-1.png
END:VEVENT
BEGIN:VEVENT
DTSTART;TZID=Europe/Madrid:20260424T200000
DTEND;TZID=Europe/Madrid:20260424T220000
DTSTAMP:20260421T115353
CREATED:20260421T083919Z
LAST-MODIFIED:20260421T083919Z
UID:10012416-1777060800-1777068000@juventud.ayto-caceres.es
SUMMARY:Concierto "Tocando Techo"
DESCRIPTION:
URL:https://juventud.ayto-caceres.es/evento/concierto-tocando-techo/
LOCATION:El Corral de las Cigüeñas\, Cta. de Aldana\, 6\, Cáceres\, 10003\, España
CATEGORIES:Música
ATTACH;FMTTYPE=image/jpeg:https://juventud.ayto-caceres.es/wp-content/uploads/2026/04/Corral-2.jpg
END:VEVENT
BEGIN:VEVENT
DTSTART;TZID=Europe/Madrid:20260424T203000
DTEND;TZID=Europe/Madrid:20260424T220000
DTSTAMP:20260421T115353
CREATED:20260420T074839Z
LAST-MODIFIED:20260420T074839Z
UID:10012403-1777062600-1777068000@juventud.ayto-caceres.es
SUMMARY:Cine "Rondallas". Filmoteca
DESCRIPTION:
URL:https://juventud.ayto-caceres.es/evento/cine-rondallas-filmoteca/
LOCATION:Filmoteca Extremadura\, C. Rincón de la Monja\, 6\, Cáceres\, Cáceres\, 10003\, España
CATEGORIES:Cine
ATTACH;FMTTYPE=image/jpeg:https://juventud.ayto-caceres.es/wp-content/uploads/2026/04/Filmo-3.jpg
END:VEVENT
BEGIN:VEVENT
DTSTART;TZID=Europe/Madrid:20260424T210000
DTEND;TZID=Europe/Madrid:20260424T223000
DTSTAMP:20260421T115353
CREATED:20260421T084542Z
LAST-MODIFIED:20260421T084542Z
UID:10012418-1777064400-1777069800@juventud.ayto-caceres.es
SUMMARY:Concierto "OBK"
DESCRIPTION:
URL:https://juventud.ayto-caceres.es/evento/concierto-obk/
LOCATION:Palacio de Congresos de Cáceres\, Avda. de la Hispanidad\, S/N\, Cáceres\, cáceres\, 10005\, España
CATEGORIES:Música
ATTACH;FMTTYPE=image/jpeg:https://juventud.ayto-caceres.es/wp-content/uploads/2026/04/PalCon-3.jpeg
END:VEVENT
BEGIN:VEVENT
DTSTART;TZID=Europe/Madrid:20260425T120000
DTEND;TZID=Europe/Madrid:20260425T140000
DTSTAMP:20260421T115353
CREATED:20260420T103446Z
LAST-MODIFIED:20260420T103446Z
UID:10012408-1777118400-1777125600@juventud.ayto-caceres.es
SUMMARY:Taller creativo: ‘La seta cósmica’
DESCRIPTION:
URL:https://juventud.ayto-caceres.es/evento/taller-creativo-la-seta-cosmica/
LOCATION:Museo de Arte Contemporáneo Helga de Alvear\, Calle Pizarro\, 8\, Cáceres\, Cáceres\, 10003\, España
CATEGORIES:Cultura
ATTACH;FMTTYPE=image/jpeg:https://juventud.ayto-caceres.es/wp-content/uploads/2026/04/Helga-2.jpg
END:VEVENT
BEGIN:VEVENT
DTSTART;TZID=Europe/Madrid:20260425T180000
DTEND;TZID=Europe/Madrid:20260425T193000
DTSTAMP:20260421T115353
CREATED:20260421T084225Z
LAST-MODIFIED:20260421T084225Z
UID:10012417-1777140000-1777145400@juventud.ayto-caceres.es
SUMMARY:Concierto "Willy Wylazo"
DESCRIPTION:
URL:https://juventud.ayto-caceres.es/evento/concierto-willy-wylazo/
LOCATION:El Corral de las Cigüeñas\, Cta. de Aldana\, 6\, Cáceres\, 10003\, España
CATEGORIES:Música
ATTACH;FMTTYPE=image/jpeg:https://juventud.ayto-caceres.es/wp-content/uploads/2026/04/Corral-3.jpg
END:VEVENT
BEGIN:VEVENT
DTSTART;TZID=Europe/Madrid:20260425T200000
DTEND;TZID=Europe/Madrid:20260425T210000
DTSTAMP:20260421T115353
CREATED:20260421T083410Z
LAST-MODIFIED:20260421T083410Z
UID:10012414-1777147200-1777150800@juventud.ayto-caceres.es
SUMMARY:La Escena se Asoma. Gran Teatro
DESCRIPTION:SÁBADO 25 DE ABRIL A LAS 20:00h. «CUATRO GATOS PARDOS»
URL:https://juventud.ayto-caceres.es/evento/la-escena-se-asoma-gran-teatro/
LOCATION:Gran Teatro Cáceres\, C. San Antón\, 10\, Cáceres\, Cáceres\, 10003\, España
CATEGORIES:Música
ATTACH;FMTTYPE=image/png:https://juventud.ayto-caceres.es/wp-content/uploads/2026/04/Gran-Teatro.png
END:VEVENT
BEGIN:VEVENT
DTSTART;TZID=Europe/Madrid:20260427T160000
DTEND;TZID=Europe/Madrid:20260427T190000
DTSTAMP:20260421T115353
CREATED:20260407T103347Z
LAST-MODIFIED:20260407T103347Z
UID:10011977-1777305600-1777316400@juventud.ayto-caceres.es
SUMMARY:Laboratorio de Escena. Taller creativo
DESCRIPTION:
URL:https://juventud.ayto-caceres.es/evento/laboratorio-de-escena-taller-creativo/2026-04-27/
LOCATION:Espacio Creación Joven\, C. de la Juventud\, 2\, Cáceres\, Cáceres\, 10003\, España
CATEGORIES:Otras
ATTACH;FMTTYPE=image/png:https://juventud.ayto-caceres.es/wp-content/uploads/2026/04/Habla-de-arte.png
END:VEVENT
BEGIN:VEVENT
DTSTART;TZID=Europe/Madrid:20260430T170000
DTEND;TZID=Europe/Madrid:20260430T235900
DTSTAMP:20260421T115353
CREATED:20260421T072548Z
LAST-MODIFIED:20260421T072548Z
UID:10012411-1777568400-1777593540@juventud.ayto-caceres.es
SUMMARY:Extremúsica 2026
DESCRIPTION:
URL:https://juventud.ayto-caceres.es/evento/extremusica-2026/2026-04-30/
LOCATION:Recinto Ferial Cáceres\, Carretera de Mérida\, Cáceres\, Cáceres\, España
CATEGORIES:Música
ATTACH;FMTTYPE=image/png:https://juventud.ayto-caceres.es/wp-content/uploads/2026/04/Extremusica.png
END:VEVENT
END:VCALENDAR