BEGIN:VCALENDAR
VERSION:2.0
PRODID:-//Portal de Juventud - ECPv6.15.14//NONSGML v1.0//EN
CALSCALE:GREGORIAN
METHOD:PUBLISH
X-WR-CALNAME:Portal de Juventud
X-ORIGINAL-URL:https://juventud.ayto-caceres.es
X-WR-CALDESC:Eventos para Portal de Juventud
REFRESH-INTERVAL;VALUE=DURATION:PT1H
X-Robots-Tag:noindex
X-PUBLISHED-TTL:PT1H
BEGIN:VTIMEZONE
TZID:Europe/Madrid
BEGIN:DAYLIGHT
TZOFFSETFROM:+0100
TZOFFSETTO:+0200
TZNAME:CEST
DTSTART:20250330T010000
END:DAYLIGHT
BEGIN:STANDARD
TZOFFSETFROM:+0200
TZOFFSETTO:+0100
TZNAME:CET
DTSTART:20251026T010000
END:STANDARD
BEGIN:DAYLIGHT
TZOFFSETFROM:+0100
TZOFFSETTO:+0200
TZNAME:CEST
DTSTART:20260329T010000
END:DAYLIGHT
BEGIN:STANDARD
TZOFFSETFROM:+0200
TZOFFSETTO:+0100
TZNAME:CET
DTSTART:20261025T010000
END:STANDARD
BEGIN:DAYLIGHT
TZOFFSETFROM:+0100
TZOFFSETTO:+0200
TZNAME:CEST
DTSTART:20270328T010000
END:DAYLIGHT
BEGIN:STANDARD
TZOFFSETFROM:+0200
TZOFFSETTO:+0100
TZNAME:CET
DTSTART:20271031T010000
END:STANDARD
END:VTIMEZONE
BEGIN:VEVENT
DTSTART;TZID=Europe/Madrid:20260425T170000
DTEND;TZID=Europe/Madrid:20260425T200000
DTSTAMP:20260424T111653
CREATED:20260422T095415Z
LAST-MODIFIED:20260424T063152Z
UID:10012429-1777136400-1777147200@juventud.ayto-caceres.es
SUMMARY:Jornadas de Juegos de Rol - Sábado 25  y Domingo 26 de abril
DESCRIPTION:Actividad se desarrollará por la Asociación LudiKceres \nLugar: Espacio para la Creación Joven de Cáceres. C/De la Juventud\, 2 \nEl horario: \n\nSábado 24 de abril: a partir de las 17 horas \nDomingo 25 de abril: de 11 a 20 h.\n\nOpción 1: Reserva una plaza en algunas de las partidas organizadas a través del Formulario del QR o poneros en contacto a través del Email: ludikceres@gmail.com \nOpción 2: Reserva una mesa para Masterear una partida. Si tienes un grupo de juego cerrado\, puedes reservarles la plaza y si quedan disponibles puedes abrirlos al público. \nEl domingo es una jornada normal de Juegos de Mesa en la que cada uno se lleva el juego que quiera jugar (sin una temática concreta\, ni un tipo de juego concreto).
URL:https://juventud.ayto-caceres.es/evento/jornadas-de-juegos-de-rol-sabado-25-y-domingo-26-de-abril/2026-04-25/
LOCATION:Espacio para la Creación Joven de Cáceres\, C/De la Juventud\, nº 2\, Cáceres\, Cáceres\, 10003\, España
CATEGORIES:Otras
ATTACH;FMTTYPE=image/png:https://juventud.ayto-caceres.es/wp-content/uploads/2026/04/juegos-de-rol-ecj.png
END:VEVENT
BEGIN:VEVENT
DTSTART;TZID=Europe/Madrid:20260426T170000
DTEND;TZID=Europe/Madrid:20260426T200000
DTSTAMP:20260424T111653
CREATED:20260422T095415Z
LAST-MODIFIED:20260424T063152Z
UID:10012430-1777222800-1777233600@juventud.ayto-caceres.es
SUMMARY:Jornadas de Juegos de Rol - Sábado 25  y Domingo 26 de abril
DESCRIPTION:Actividad se desarrollará por la Asociación LudiKceres \nLugar: Espacio para la Creación Joven de Cáceres. C/De la Juventud\, 2 \nEl horario: \n\nSábado 24 de abril: a partir de las 17 horas \nDomingo 25 de abril: de 11 a 20 h.\n\nOpción 1: Reserva una plaza en algunas de las partidas organizadas a través del Formulario del QR o poneros en contacto a través del Email: ludikceres@gmail.com \nOpción 2: Reserva una mesa para Masterear una partida. Si tienes un grupo de juego cerrado\, puedes reservarles la plaza y si quedan disponibles puedes abrirlos al público. \nEl domingo es una jornada normal de Juegos de Mesa en la que cada uno se lleva el juego que quiera jugar (sin una temática concreta\, ni un tipo de juego concreto).
URL:https://juventud.ayto-caceres.es/evento/jornadas-de-juegos-de-rol-sabado-25-y-domingo-26-de-abril/2026-04-26/
LOCATION:Espacio para la Creación Joven de Cáceres\, C/De la Juventud\, nº 2\, Cáceres\, Cáceres\, 10003\, España
CATEGORIES:Otras
ATTACH;FMTTYPE=image/png:https://juventud.ayto-caceres.es/wp-content/uploads/2026/04/juegos-de-rol-ecj.png
END:VEVENT
END:VCALENDAR