BEGIN:VCALENDAR
VERSION:2.0
PRODID:-//Portal de Juventud - ECPv6.15.14//NONSGML v1.0//EN
CALSCALE:GREGORIAN
METHOD:PUBLISH
X-WR-CALNAME:Portal de Juventud
X-ORIGINAL-URL:https://juventud.ayto-caceres.es
X-WR-CALDESC:Eventos para Portal de Juventud
REFRESH-INTERVAL;VALUE=DURATION:PT1H
X-Robots-Tag:noindex
X-PUBLISHED-TTL:PT1H
BEGIN:VTIMEZONE
TZID:Europe/Madrid
BEGIN:DAYLIGHT
TZOFFSETFROM:+0100
TZOFFSETTO:+0200
TZNAME:CEST
DTSTART:20250330T010000
END:DAYLIGHT
BEGIN:STANDARD
TZOFFSETFROM:+0200
TZOFFSETTO:+0100
TZNAME:CET
DTSTART:20251026T010000
END:STANDARD
BEGIN:DAYLIGHT
TZOFFSETFROM:+0100
TZOFFSETTO:+0200
TZNAME:CEST
DTSTART:20260329T010000
END:DAYLIGHT
BEGIN:STANDARD
TZOFFSETFROM:+0200
TZOFFSETTO:+0100
TZNAME:CET
DTSTART:20261025T010000
END:STANDARD
BEGIN:DAYLIGHT
TZOFFSETFROM:+0100
TZOFFSETTO:+0200
TZNAME:CEST
DTSTART:20270328T010000
END:DAYLIGHT
BEGIN:STANDARD
TZOFFSETFROM:+0200
TZOFFSETTO:+0100
TZNAME:CET
DTSTART:20271031T010000
END:STANDARD
END:VTIMEZONE
BEGIN:VEVENT
DTSTART;TZID=Europe/Madrid:20260425T200000
DTEND;TZID=Europe/Madrid:20260425T210000
DTSTAMP:20260421T220345
CREATED:20260421T083410Z
LAST-MODIFIED:20260421T083410Z
UID:10012414-1777147200-1777150800@juventud.ayto-caceres.es
SUMMARY:La Escena se Asoma. Gran Teatro
DESCRIPTION:SÁBADO 25 DE ABRIL A LAS 20:00h. «CUATRO GATOS PARDOS»
URL:https://juventud.ayto-caceres.es/evento/la-escena-se-asoma-gran-teatro/
LOCATION:Gran Teatro Cáceres\, C. San Antón\, 10\, Cáceres\, Cáceres\, 10003\, España
CATEGORIES:Música
ATTACH;FMTTYPE=image/png:https://juventud.ayto-caceres.es/wp-content/uploads/2026/04/Gran-Teatro.png
END:VEVENT
BEGIN:VEVENT
DTSTART;TZID=Europe/Madrid:20260425T210000
DTEND;TZID=Europe/Madrid:20260425T220000
DTSTAMP:20260421T220345
CREATED:20260421T110351Z
LAST-MODIFIED:20260421T110351Z
UID:10012426-1777150800-1777154400@juventud.ayto-caceres.es
SUMMARY:Teatro "El verano que mi madre tuvo los ojos verdes"
DESCRIPTION:
URL:https://juventud.ayto-caceres.es/evento/teatro-el-verano-que-mi-madre-tuvo-los-ojos-verdes/
LOCATION:La Nave del Duende\, Polígono la Cañada 1\, Casar de Cáceres\, 10190\, España
CATEGORIES:Cultura
ATTACH;FMTTYPE=image/jpeg:https://juventud.ayto-caceres.es/wp-content/uploads/2026/04/La-Nave.jpg
END:VEVENT
BEGIN:VEVENT
DTSTART;TZID=Europe/Madrid:20260425T210000
DTEND;TZID=Europe/Madrid:20260425T223000
DTSTAMP:20260421T220345
CREATED:20260421T101911Z
LAST-MODIFIED:20260421T102240Z
UID:10012421-1777150800-1777156200@juventud.ayto-caceres.es
SUMMARY:Concierto "Estación Refugio"
DESCRIPTION:
URL:https://juventud.ayto-caceres.es/evento/concierto-estacion-refugio/
LOCATION:Boogaloo Club Cáceres\, Cáceres
CATEGORIES:Música
ATTACH;FMTTYPE=image/jpeg:https://juventud.ayto-caceres.es/wp-content/uploads/2026/04/Boogaloo-2.jpeg
END:VEVENT
BEGIN:VEVENT
DTSTART;TZID=Europe/Madrid:20260426T200000
DTEND;TZID=Europe/Madrid:20260426T213000
DTSTAMP:20260421T220345
CREATED:20260421T110043Z
LAST-MODIFIED:20260421T110043Z
UID:10012425-1777233600-1777239000@juventud.ayto-caceres.es
SUMMARY:Teatro "Música para Hitler"
DESCRIPTION:
URL:https://juventud.ayto-caceres.es/evento/teatro-musica-para-hitler/
LOCATION:Gran Teatro Cáceres\, C. San Antón\, 10\, Cáceres\, Cáceres\, 10003\, España
CATEGORIES:Cultura
ATTACH;FMTTYPE=image/jpeg:https://juventud.ayto-caceres.es/wp-content/uploads/2026/04/Gran-Teatro-2.jpg
END:VEVENT
BEGIN:VEVENT
DTSTART;TZID=Europe/Madrid:20260427T160000
DTEND;TZID=Europe/Madrid:20260427T190000
DTSTAMP:20260421T220345
CREATED:20260407T103347Z
LAST-MODIFIED:20260407T103347Z
UID:10011977-1777305600-1777316400@juventud.ayto-caceres.es
SUMMARY:Laboratorio de Escena. Taller creativo
DESCRIPTION:
URL:https://juventud.ayto-caceres.es/evento/laboratorio-de-escena-taller-creativo/2026-04-27/
LOCATION:Espacio Creación Joven\, C. de la Juventud\, 2\, Cáceres\, Cáceres\, 10003\, España
CATEGORIES:Otras
ATTACH;FMTTYPE=image/png:https://juventud.ayto-caceres.es/wp-content/uploads/2026/04/Habla-de-arte.png
END:VEVENT
BEGIN:VEVENT
DTSTART;TZID=Europe/Madrid:20260430T170000
DTEND;TZID=Europe/Madrid:20260430T235900
DTSTAMP:20260421T220345
CREATED:20260421T072548Z
LAST-MODIFIED:20260421T072548Z
UID:10012411-1777568400-1777593540@juventud.ayto-caceres.es
SUMMARY:Extremúsica 2026
DESCRIPTION:
URL:https://juventud.ayto-caceres.es/evento/extremusica-2026/2026-04-30/
LOCATION:Recinto Ferial Cáceres\, Carretera de Mérida\, Cáceres\, Cáceres\, España
CATEGORIES:Música
ATTACH;FMTTYPE=image/png:https://juventud.ayto-caceres.es/wp-content/uploads/2026/04/Extremusica.png
END:VEVENT
END:VCALENDAR