BEGIN:VCALENDAR
VERSION:2.0
PRODID:-//Portal de Juventud - ECPv6.15.14//NONSGML v1.0//EN
CALSCALE:GREGORIAN
METHOD:PUBLISH
X-ORIGINAL-URL:https://juventud.ayto-caceres.es
X-WR-CALDESC:Eventos para Portal de Juventud
REFRESH-INTERVAL;VALUE=DURATION:PT1H
X-Robots-Tag:noindex
X-PUBLISHED-TTL:PT1H
BEGIN:VTIMEZONE
TZID:Europe/Madrid
BEGIN:DAYLIGHT
TZOFFSETFROM:+0100
TZOFFSETTO:+0200
TZNAME:CEST
DTSTART:20230326T010000
END:DAYLIGHT
BEGIN:STANDARD
TZOFFSETFROM:+0200
TZOFFSETTO:+0100
TZNAME:CET
DTSTART:20231029T010000
END:STANDARD
BEGIN:DAYLIGHT
TZOFFSETFROM:+0100
TZOFFSETTO:+0200
TZNAME:CEST
DTSTART:20240331T010000
END:DAYLIGHT
BEGIN:STANDARD
TZOFFSETFROM:+0200
TZOFFSETTO:+0100
TZNAME:CET
DTSTART:20241027T010000
END:STANDARD
BEGIN:DAYLIGHT
TZOFFSETFROM:+0100
TZOFFSETTO:+0200
TZNAME:CEST
DTSTART:20250330T010000
END:DAYLIGHT
BEGIN:STANDARD
TZOFFSETFROM:+0200
TZOFFSETTO:+0100
TZNAME:CET
DTSTART:20251026T010000
END:STANDARD
END:VTIMEZONE
BEGIN:VEVENT
DTSTART;TZID=Europe/Madrid:20240702T110000
DTEND;TZID=Europe/Madrid:20240702T210000
DTSTAMP:20260420T085851
CREATED:20240528T075709Z
LAST-MODIFIED:20240715T083740Z
UID:10006288-1719918000-1719954000@juventud.ayto-caceres.es
SUMMARY:Exposición "Decorar\, Instalar\, Decorar" de Isabel Flores
DESCRIPTION:Lugar: Sala de Arte El Brocense \nHasta el 30 de agosto\, de martes a sábado (junio y julio) y de lunes  a viernes (mes de agosto) \n 
URL:https://juventud.ayto-caceres.es/evento/exposicion-decorar-instalar-decorar-de-isabel-flores/2024-07-02/
LOCATION:Sala de Arte El Brocense\, San Antón\, 17\, Cáceres\, Cáceres\, 10003\, España
CATEGORIES:Exposiciones
ATTACH;FMTTYPE=image/jpeg:https://juventud.ayto-caceres.es/wp-content/uploads/2024/05/Expo-Dip.jpg
ORGANIZER;CN="Diputaci%C3%B3n Provincial de C%C3%A1ceres":MAILTO:ciudadanial@dip-caceres.es
END:VEVENT
BEGIN:VEVENT
DTSTART;TZID=Europe/Madrid:20240703T110000
DTEND;TZID=Europe/Madrid:20240703T210000
DTSTAMP:20260420T085851
CREATED:20240528T075709Z
LAST-MODIFIED:20240715T083740Z
UID:10006289-1720004400-1720040400@juventud.ayto-caceres.es
SUMMARY:Exposición "Decorar\, Instalar\, Decorar" de Isabel Flores
DESCRIPTION:Lugar: Sala de Arte El Brocense \nHasta el 30 de agosto\, de martes a sábado (junio y julio) y de lunes  a viernes (mes de agosto) \n 
URL:https://juventud.ayto-caceres.es/evento/exposicion-decorar-instalar-decorar-de-isabel-flores/2024-07-03/
LOCATION:Sala de Arte El Brocense\, San Antón\, 17\, Cáceres\, Cáceres\, 10003\, España
CATEGORIES:Exposiciones
ATTACH;FMTTYPE=image/jpeg:https://juventud.ayto-caceres.es/wp-content/uploads/2024/05/Expo-Dip.jpg
ORGANIZER;CN="Diputaci%C3%B3n Provincial de C%C3%A1ceres":MAILTO:ciudadanial@dip-caceres.es
END:VEVENT
BEGIN:VEVENT
DTSTART;TZID=Europe/Madrid:20240703T190000
DTEND;TZID=Europe/Madrid:20240703T190000
DTSTAMP:20260420T085851
CREATED:20240621T095433Z
LAST-MODIFIED:20240715T081413Z
UID:10006045-1720033200-1720033200@juventud.ayto-caceres.es
SUMMARY:Exposición "Elipsis 3652"
DESCRIPTION:El proyecto ELIPSIS 3652 está coordinado por Francisco Claver\, profesor de Filosofía del IES Al-Qázeres\, y fotógrafo (Claverg). Consiste en la realización de una serie de retratos a jóvenes de 17 y 18 años y la redacción de unas cartas a su yo del futuro. Las fotografías se realizaron en el Espacio de Creación Joven de Cáceres los días 3 y 5 de mayo de 2024. Dentro de diez años\, tanto el profesor como sus alumnos\, volverán a reunirse allí para realizar de nuevo los retratos y redactar las cartas a su yo del pasado. El proyecto pretende generar una reflexión sobre el paso del tiempo y sobre las incertidumbres\, deseos\, inseguridades\, ilusiones y dudas que genera una etapa como la juventud\, a la vez que invita a pensar en la velocidad con la que vivimos nuestras vidas. El proyecto tiene su propia banda sonora\, ya que cada participante aportará una canción a una lista de Spotify con el mismo nombre. \nLugar: Belleartes.  Del 29/06 al 21/07/2024
URL:https://juventud.ayto-caceres.es/evento/exposicion-elipsis-3652/2024-07-03/
LOCATION:Espacio Belleartes\, C. Donoso Cortés\, 6\, Cáceres\, Cáceres\, 10003\, España
CATEGORIES:Exposiciones
ATTACH;FMTTYPE=image/jpeg:https://juventud.ayto-caceres.es/wp-content/uploads/2024/06/Expo-Elipsis.jpg
END:VEVENT
BEGIN:VEVENT
DTSTART;TZID=Europe/Madrid:20240704T110000
DTEND;TZID=Europe/Madrid:20240704T210000
DTSTAMP:20260420T085851
CREATED:20240528T075709Z
LAST-MODIFIED:20240715T083740Z
UID:10006290-1720090800-1720126800@juventud.ayto-caceres.es
SUMMARY:Exposición "Decorar\, Instalar\, Decorar" de Isabel Flores
DESCRIPTION:Lugar: Sala de Arte El Brocense \nHasta el 30 de agosto\, de martes a sábado (junio y julio) y de lunes  a viernes (mes de agosto) \n 
URL:https://juventud.ayto-caceres.es/evento/exposicion-decorar-instalar-decorar-de-isabel-flores/2024-07-04/
LOCATION:Sala de Arte El Brocense\, San Antón\, 17\, Cáceres\, Cáceres\, 10003\, España
CATEGORIES:Exposiciones
ATTACH;FMTTYPE=image/jpeg:https://juventud.ayto-caceres.es/wp-content/uploads/2024/05/Expo-Dip.jpg
ORGANIZER;CN="Diputaci%C3%B3n Provincial de C%C3%A1ceres":MAILTO:ciudadanial@dip-caceres.es
END:VEVENT
BEGIN:VEVENT
DTSTART;TZID=Europe/Madrid:20240704T190000
DTEND;TZID=Europe/Madrid:20240704T190000
DTSTAMP:20260420T085851
CREATED:20240621T095433Z
LAST-MODIFIED:20240715T081413Z
UID:10006046-1720119600-1720119600@juventud.ayto-caceres.es
SUMMARY:Exposición "Elipsis 3652"
DESCRIPTION:El proyecto ELIPSIS 3652 está coordinado por Francisco Claver\, profesor de Filosofía del IES Al-Qázeres\, y fotógrafo (Claverg). Consiste en la realización de una serie de retratos a jóvenes de 17 y 18 años y la redacción de unas cartas a su yo del futuro. Las fotografías se realizaron en el Espacio de Creación Joven de Cáceres los días 3 y 5 de mayo de 2024. Dentro de diez años\, tanto el profesor como sus alumnos\, volverán a reunirse allí para realizar de nuevo los retratos y redactar las cartas a su yo del pasado. El proyecto pretende generar una reflexión sobre el paso del tiempo y sobre las incertidumbres\, deseos\, inseguridades\, ilusiones y dudas que genera una etapa como la juventud\, a la vez que invita a pensar en la velocidad con la que vivimos nuestras vidas. El proyecto tiene su propia banda sonora\, ya que cada participante aportará una canción a una lista de Spotify con el mismo nombre. \nLugar: Belleartes.  Del 29/06 al 21/07/2024
URL:https://juventud.ayto-caceres.es/evento/exposicion-elipsis-3652/2024-07-04/
LOCATION:Espacio Belleartes\, C. Donoso Cortés\, 6\, Cáceres\, Cáceres\, 10003\, España
CATEGORIES:Exposiciones
ATTACH;FMTTYPE=image/jpeg:https://juventud.ayto-caceres.es/wp-content/uploads/2024/06/Expo-Elipsis.jpg
END:VEVENT
BEGIN:VEVENT
DTSTART;TZID=Europe/Madrid:20240705T110000
DTEND;TZID=Europe/Madrid:20240705T210000
DTSTAMP:20260420T085851
CREATED:20240528T075709Z
LAST-MODIFIED:20240715T083740Z
UID:10006291-1720177200-1720213200@juventud.ayto-caceres.es
SUMMARY:Exposición "Decorar\, Instalar\, Decorar" de Isabel Flores
DESCRIPTION:Lugar: Sala de Arte El Brocense \nHasta el 30 de agosto\, de martes a sábado (junio y julio) y de lunes  a viernes (mes de agosto) \n 
URL:https://juventud.ayto-caceres.es/evento/exposicion-decorar-instalar-decorar-de-isabel-flores/2024-07-05/
LOCATION:Sala de Arte El Brocense\, San Antón\, 17\, Cáceres\, Cáceres\, 10003\, España
CATEGORIES:Exposiciones
ATTACH;FMTTYPE=image/jpeg:https://juventud.ayto-caceres.es/wp-content/uploads/2024/05/Expo-Dip.jpg
ORGANIZER;CN="Diputaci%C3%B3n Provincial de C%C3%A1ceres":MAILTO:ciudadanial@dip-caceres.es
END:VEVENT
BEGIN:VEVENT
DTSTART;TZID=Europe/Madrid:20240705T190000
DTEND;TZID=Europe/Madrid:20240705T190000
DTSTAMP:20260420T085851
CREATED:20240621T095433Z
LAST-MODIFIED:20240715T081413Z
UID:10006047-1720206000-1720206000@juventud.ayto-caceres.es
SUMMARY:Exposición "Elipsis 3652"
DESCRIPTION:El proyecto ELIPSIS 3652 está coordinado por Francisco Claver\, profesor de Filosofía del IES Al-Qázeres\, y fotógrafo (Claverg). Consiste en la realización de una serie de retratos a jóvenes de 17 y 18 años y la redacción de unas cartas a su yo del futuro. Las fotografías se realizaron en el Espacio de Creación Joven de Cáceres los días 3 y 5 de mayo de 2024. Dentro de diez años\, tanto el profesor como sus alumnos\, volverán a reunirse allí para realizar de nuevo los retratos y redactar las cartas a su yo del pasado. El proyecto pretende generar una reflexión sobre el paso del tiempo y sobre las incertidumbres\, deseos\, inseguridades\, ilusiones y dudas que genera una etapa como la juventud\, a la vez que invita a pensar en la velocidad con la que vivimos nuestras vidas. El proyecto tiene su propia banda sonora\, ya que cada participante aportará una canción a una lista de Spotify con el mismo nombre. \nLugar: Belleartes.  Del 29/06 al 21/07/2024
URL:https://juventud.ayto-caceres.es/evento/exposicion-elipsis-3652/2024-07-05/
LOCATION:Espacio Belleartes\, C. Donoso Cortés\, 6\, Cáceres\, Cáceres\, 10003\, España
CATEGORIES:Exposiciones
ATTACH;FMTTYPE=image/jpeg:https://juventud.ayto-caceres.es/wp-content/uploads/2024/06/Expo-Elipsis.jpg
END:VEVENT
BEGIN:VEVENT
DTSTART;TZID=Europe/Madrid:20240706T110000
DTEND;TZID=Europe/Madrid:20240706T210000
DTSTAMP:20260420T085851
CREATED:20240528T075709Z
LAST-MODIFIED:20240715T083740Z
UID:10006292-1720263600-1720299600@juventud.ayto-caceres.es
SUMMARY:Exposición "Decorar\, Instalar\, Decorar" de Isabel Flores
DESCRIPTION:Lugar: Sala de Arte El Brocense \nHasta el 30 de agosto\, de martes a sábado (junio y julio) y de lunes  a viernes (mes de agosto) \n 
URL:https://juventud.ayto-caceres.es/evento/exposicion-decorar-instalar-decorar-de-isabel-flores/2024-07-06/
LOCATION:Sala de Arte El Brocense\, San Antón\, 17\, Cáceres\, Cáceres\, 10003\, España
CATEGORIES:Exposiciones
ATTACH;FMTTYPE=image/jpeg:https://juventud.ayto-caceres.es/wp-content/uploads/2024/05/Expo-Dip.jpg
ORGANIZER;CN="Diputaci%C3%B3n Provincial de C%C3%A1ceres":MAILTO:ciudadanial@dip-caceres.es
END:VEVENT
BEGIN:VEVENT
DTSTART;TZID=Europe/Madrid:20240706T190000
DTEND;TZID=Europe/Madrid:20240706T190000
DTSTAMP:20260420T085851
CREATED:20240621T095433Z
LAST-MODIFIED:20240715T081413Z
UID:10006048-1720292400-1720292400@juventud.ayto-caceres.es
SUMMARY:Exposición "Elipsis 3652"
DESCRIPTION:El proyecto ELIPSIS 3652 está coordinado por Francisco Claver\, profesor de Filosofía del IES Al-Qázeres\, y fotógrafo (Claverg). Consiste en la realización de una serie de retratos a jóvenes de 17 y 18 años y la redacción de unas cartas a su yo del futuro. Las fotografías se realizaron en el Espacio de Creación Joven de Cáceres los días 3 y 5 de mayo de 2024. Dentro de diez años\, tanto el profesor como sus alumnos\, volverán a reunirse allí para realizar de nuevo los retratos y redactar las cartas a su yo del pasado. El proyecto pretende generar una reflexión sobre el paso del tiempo y sobre las incertidumbres\, deseos\, inseguridades\, ilusiones y dudas que genera una etapa como la juventud\, a la vez que invita a pensar en la velocidad con la que vivimos nuestras vidas. El proyecto tiene su propia banda sonora\, ya que cada participante aportará una canción a una lista de Spotify con el mismo nombre. \nLugar: Belleartes.  Del 29/06 al 21/07/2024
URL:https://juventud.ayto-caceres.es/evento/exposicion-elipsis-3652/2024-07-06/
LOCATION:Espacio Belleartes\, C. Donoso Cortés\, 6\, Cáceres\, Cáceres\, 10003\, España
CATEGORIES:Exposiciones
ATTACH;FMTTYPE=image/jpeg:https://juventud.ayto-caceres.es/wp-content/uploads/2024/06/Expo-Elipsis.jpg
END:VEVENT
END:VCALENDAR