BEGIN:VCALENDAR
VERSION:2.0
PRODID:-//Portal de Juventud - ECPv6.15.14//NONSGML v1.0//EN
CALSCALE:GREGORIAN
METHOD:PUBLISH
X-ORIGINAL-URL:https://juventud.ayto-caceres.es
X-WR-CALDESC:Eventos para Portal de Juventud
REFRESH-INTERVAL;VALUE=DURATION:PT1H
X-Robots-Tag:noindex
X-PUBLISHED-TTL:PT1H
BEGIN:VTIMEZONE
TZID:Europe/Madrid
BEGIN:DAYLIGHT
TZOFFSETFROM:+0100
TZOFFSETTO:+0200
TZNAME:CEST
DTSTART:20230326T010000
END:DAYLIGHT
BEGIN:STANDARD
TZOFFSETFROM:+0200
TZOFFSETTO:+0100
TZNAME:CET
DTSTART:20231029T010000
END:STANDARD
BEGIN:DAYLIGHT
TZOFFSETFROM:+0100
TZOFFSETTO:+0200
TZNAME:CEST
DTSTART:20240331T010000
END:DAYLIGHT
BEGIN:STANDARD
TZOFFSETFROM:+0200
TZOFFSETTO:+0100
TZNAME:CET
DTSTART:20241027T010000
END:STANDARD
BEGIN:DAYLIGHT
TZOFFSETFROM:+0100
TZOFFSETTO:+0200
TZNAME:CEST
DTSTART:20250330T010000
END:DAYLIGHT
BEGIN:STANDARD
TZOFFSETFROM:+0200
TZOFFSETTO:+0100
TZNAME:CET
DTSTART:20251026T010000
END:STANDARD
END:VTIMEZONE
BEGIN:VEVENT
DTSTART;TZID=Europe/Madrid:20240820T110000
DTEND;TZID=Europe/Madrid:20240820T210000
DTSTAMP:20260420T073029
CREATED:20240528T075709Z
LAST-MODIFIED:20240715T083740Z
UID:10006323-1724151600-1724187600@juventud.ayto-caceres.es
SUMMARY:Exposición "Decorar\, Instalar\, Decorar" de Isabel Flores
DESCRIPTION:Lugar: Sala de Arte El Brocense \nHasta el 30 de agosto\, de martes a sábado (junio y julio) y de lunes  a viernes (mes de agosto) \n 
URL:https://juventud.ayto-caceres.es/evento/exposicion-decorar-instalar-decorar-de-isabel-flores/2024-08-20/
LOCATION:Sala de Arte El Brocense\, San Antón\, 17\, Cáceres\, Cáceres\, 10003\, España
CATEGORIES:Exposiciones
ATTACH;FMTTYPE=image/jpeg:https://juventud.ayto-caceres.es/wp-content/uploads/2024/05/Expo-Dip.jpg
ORGANIZER;CN="Diputaci%C3%B3n Provincial de C%C3%A1ceres":MAILTO:ciudadanial@dip-caceres.es
END:VEVENT
BEGIN:VEVENT
DTSTART;TZID=Europe/Madrid:20240821T110000
DTEND;TZID=Europe/Madrid:20240821T210000
DTSTAMP:20260420T073029
CREATED:20240528T075709Z
LAST-MODIFIED:20240715T083740Z
UID:10006324-1724238000-1724274000@juventud.ayto-caceres.es
SUMMARY:Exposición "Decorar\, Instalar\, Decorar" de Isabel Flores
DESCRIPTION:Lugar: Sala de Arte El Brocense \nHasta el 30 de agosto\, de martes a sábado (junio y julio) y de lunes  a viernes (mes de agosto) \n 
URL:https://juventud.ayto-caceres.es/evento/exposicion-decorar-instalar-decorar-de-isabel-flores/2024-08-21/
LOCATION:Sala de Arte El Brocense\, San Antón\, 17\, Cáceres\, Cáceres\, 10003\, España
CATEGORIES:Exposiciones
ATTACH;FMTTYPE=image/jpeg:https://juventud.ayto-caceres.es/wp-content/uploads/2024/05/Expo-Dip.jpg
ORGANIZER;CN="Diputaci%C3%B3n Provincial de C%C3%A1ceres":MAILTO:ciudadanial@dip-caceres.es
END:VEVENT
BEGIN:VEVENT
DTSTART;TZID=Europe/Madrid:20240822T110000
DTEND;TZID=Europe/Madrid:20240822T210000
DTSTAMP:20260420T073029
CREATED:20240528T075709Z
LAST-MODIFIED:20240715T083740Z
UID:10006325-1724324400-1724360400@juventud.ayto-caceres.es
SUMMARY:Exposición "Decorar\, Instalar\, Decorar" de Isabel Flores
DESCRIPTION:Lugar: Sala de Arte El Brocense \nHasta el 30 de agosto\, de martes a sábado (junio y julio) y de lunes  a viernes (mes de agosto) \n 
URL:https://juventud.ayto-caceres.es/evento/exposicion-decorar-instalar-decorar-de-isabel-flores/2024-08-22/
LOCATION:Sala de Arte El Brocense\, San Antón\, 17\, Cáceres\, Cáceres\, 10003\, España
CATEGORIES:Exposiciones
ATTACH;FMTTYPE=image/jpeg:https://juventud.ayto-caceres.es/wp-content/uploads/2024/05/Expo-Dip.jpg
ORGANIZER;CN="Diputaci%C3%B3n Provincial de C%C3%A1ceres":MAILTO:ciudadanial@dip-caceres.es
END:VEVENT
BEGIN:VEVENT
DTSTART;TZID=Europe/Madrid:20240822T220000
DTEND;TZID=Europe/Madrid:20240822T233000
DTSTAMP:20260420T073029
CREATED:20240821T114108Z
LAST-MODIFIED:20240821T114108Z
UID:10007032-1724364000-1724369400@juventud.ayto-caceres.es
SUMMARY:Observación astronómica
DESCRIPTION:¡El Ayuntamiento te invita a una noche de observación del firmamento! El 22 de agosto\, la @AgrupaciónAstronómicadeCáceres te guiará en una exploración del cielo donde aprenderás a diferenciar estrellas de planetas y mucho más. \nLugar: Aeródromo La Cervera
URL:https://juventud.ayto-caceres.es/evento/observacion-astronomica/
LOCATION:Cáceres
CATEGORIES:Otras
ATTACH;FMTTYPE=image/jpeg:https://juventud.ayto-caceres.es/wp-content/uploads/2024/08/Observacion-astronomica.jpg
END:VEVENT
BEGIN:VEVENT
DTSTART;TZID=Europe/Madrid:20240823T110000
DTEND;TZID=Europe/Madrid:20240823T210000
DTSTAMP:20260420T073029
CREATED:20240528T075709Z
LAST-MODIFIED:20240715T083740Z
UID:10006326-1724410800-1724446800@juventud.ayto-caceres.es
SUMMARY:Exposición "Decorar\, Instalar\, Decorar" de Isabel Flores
DESCRIPTION:Lugar: Sala de Arte El Brocense \nHasta el 30 de agosto\, de martes a sábado (junio y julio) y de lunes  a viernes (mes de agosto) \n 
URL:https://juventud.ayto-caceres.es/evento/exposicion-decorar-instalar-decorar-de-isabel-flores/2024-08-23/
LOCATION:Sala de Arte El Brocense\, San Antón\, 17\, Cáceres\, Cáceres\, 10003\, España
CATEGORIES:Exposiciones
ATTACH;FMTTYPE=image/jpeg:https://juventud.ayto-caceres.es/wp-content/uploads/2024/05/Expo-Dip.jpg
ORGANIZER;CN="Diputaci%C3%B3n Provincial de C%C3%A1ceres":MAILTO:ciudadanial@dip-caceres.es
END:VEVENT
BEGIN:VEVENT
DTSTART;TZID=Europe/Madrid:20240824T090000
DTEND;TZID=Europe/Madrid:20240824T230000
DTSTAMP:20260420T073029
CREATED:20240820T114405Z
LAST-MODIFIED:20240820T114405Z
UID:10007031-1724490000-1724540400@juventud.ayto-caceres.es
SUMMARY:“II Edición del Campeonato de Balonmano Playa Ciudad de Cáceres”.
DESCRIPTION:Evento deportivo que se realiza en colaboración con el Centro Deportivo Altafit Cáceres y el Club de Balonmano Playa “Las Gavias”\, y se llevará a cabo en la pista de fútbol playa del R-66 situada en el Complejo Deportivo ‘El Arco’ y\, en esta ocasión\, congregará a más de 300 deportistas de 21 equipos\, 13 más que la pasada edición
URL:https://juventud.ayto-caceres.es/evento/ii-edicion-del-campeonato-de-balonmano-playa-ciudad-de-caceres/
LOCATION:Pistas Fútbol Playa R&&\, Finca de Hinche\, 23\, Cáceres\, Cáceres\, 10001\, España
CATEGORIES:Otras
ATTACH;FMTTYPE=image/jpeg:https://juventud.ayto-caceres.es/wp-content/uploads/2024/08/Balonmano-playa.jpeg
END:VEVENT
BEGIN:VEVENT
DTSTART;TZID=Europe/Madrid:20240824T110000
DTEND;TZID=Europe/Madrid:20240824T210000
DTSTAMP:20260420T073029
CREATED:20240528T075709Z
LAST-MODIFIED:20240715T083740Z
UID:10006327-1724497200-1724533200@juventud.ayto-caceres.es
SUMMARY:Exposición "Decorar\, Instalar\, Decorar" de Isabel Flores
DESCRIPTION:Lugar: Sala de Arte El Brocense \nHasta el 30 de agosto\, de martes a sábado (junio y julio) y de lunes  a viernes (mes de agosto) \n 
URL:https://juventud.ayto-caceres.es/evento/exposicion-decorar-instalar-decorar-de-isabel-flores/2024-08-24/
LOCATION:Sala de Arte El Brocense\, San Antón\, 17\, Cáceres\, Cáceres\, 10003\, España
CATEGORIES:Exposiciones
ATTACH;FMTTYPE=image/jpeg:https://juventud.ayto-caceres.es/wp-content/uploads/2024/05/Expo-Dip.jpg
ORGANIZER;CN="Diputaci%C3%B3n Provincial de C%C3%A1ceres":MAILTO:ciudadanial@dip-caceres.es
END:VEVENT
BEGIN:VEVENT
DTSTART;TZID=Europe/Madrid:20240824T220000
DTEND;TZID=Europe/Madrid:20240824T233000
DTSTAMP:20260420T073029
CREATED:20240731T102735Z
LAST-MODIFIED:20240731T102735Z
UID:10006644-1724536800-1724542200@juventud.ayto-caceres.es
SUMMARY:Encuentra la música
DESCRIPTION:La música inundará varios enclaves del casco histórico durante los sábados de agosto con ‘Encuentra la música’ \nHabrá canción de autor\, música clásica\, flamenco y jazz\, para promocionar el talento de los artistas cacereños. \nCuatro ‘microconciertos’ en diferentes recintos intramuros\, de aproximadamente una hora. La novedad este año es que cada uno será de un género musical diferente. Uno se basará en la canción de autor\, otro será de música clásica\, otro de flamenco y otro de jazz”. \nEl primer concierto será el sábado 3 de agosto\, de canción de autor a cargo de Elena Cárdenas; el segundo será el siguiente sábado\, día 10\, con música clásica a cargo de Blanca y Manu Sellers; el sábado\, día 17\, será el turno para el jazz\, con Enrique Tejado Trío; y finalizará con flamenco el sábado 24\, con Jorge Peralta que presenta su concierto ‘Ecléctico’. Todos los conciertos comenzarán a las 22 horas. \n“Cada concierto se celebrará en un lugar emblemático de nuestra ciudad monumental”\, aunque no se revela dónde se van a ubicar cada uno de los artistas\, para animar  a los asistentes a dar un paseo por el casco histórico y\, precisamente\, ‘encuentren la música’ por sus rincones y callejuelas”. Un concierto será en la Plaza Mayor\, otro en San Pablo\, otro en San Jorge\, y\, por primera vez\, también llevamos este evento al barrio judío. ¿Qué concierto se celebra en cada lugar y dónde exactamente? Esa es la sorpresa\, el gran aliciente y uno de los atractivos de este evento
URL:https://juventud.ayto-caceres.es/evento/encuentra-la-musica/2024-08-24/
LOCATION:Cáceres
CATEGORIES:Música
ATTACH;FMTTYPE=image/jpeg:https://juventud.ayto-caceres.es/wp-content/uploads/2024/07/Encuentra-la-Musica-728x1030-1.jpeg
ORGANIZER;CN="Ayuntamiento de C%C3%A1ceres":MAILTO:informacion@ayto-caceres.es
END:VEVENT
END:VCALENDAR