BEGIN:VCALENDAR
VERSION:2.0
PRODID:-//Portal de Juventud - ECPv6.15.14//NONSGML v1.0//EN
CALSCALE:GREGORIAN
METHOD:PUBLISH
X-ORIGINAL-URL:https://juventud.ayto-caceres.es
X-WR-CALDESC:Eventos para Portal de Juventud
REFRESH-INTERVAL;VALUE=DURATION:PT1H
X-Robots-Tag:noindex
X-PUBLISHED-TTL:PT1H
BEGIN:VTIMEZONE
TZID:Europe/Madrid
BEGIN:DAYLIGHT
TZOFFSETFROM:+0100
TZOFFSETTO:+0200
TZNAME:CEST
DTSTART:20230326T010000
END:DAYLIGHT
BEGIN:STANDARD
TZOFFSETFROM:+0200
TZOFFSETTO:+0100
TZNAME:CET
DTSTART:20231029T010000
END:STANDARD
BEGIN:DAYLIGHT
TZOFFSETFROM:+0100
TZOFFSETTO:+0200
TZNAME:CEST
DTSTART:20240331T010000
END:DAYLIGHT
BEGIN:STANDARD
TZOFFSETFROM:+0200
TZOFFSETTO:+0100
TZNAME:CET
DTSTART:20241027T010000
END:STANDARD
BEGIN:DAYLIGHT
TZOFFSETFROM:+0100
TZOFFSETTO:+0200
TZNAME:CEST
DTSTART:20250330T010000
END:DAYLIGHT
BEGIN:STANDARD
TZOFFSETFROM:+0200
TZOFFSETTO:+0100
TZNAME:CET
DTSTART:20251026T010000
END:STANDARD
END:VTIMEZONE
BEGIN:VEVENT
DTSTART;TZID=Europe/Madrid:20240905T210000
DTEND;TZID=Europe/Madrid:20240905T230000
DTSTAMP:20260420T090012
CREATED:20240902T111014Z
LAST-MODIFIED:20240902T111014Z
UID:10007046-1725570000-1725577200@juventud.ayto-caceres.es
SUMMARY:Concierto "Capitán Bombay"
DESCRIPTION:Lugar: El Corral de las Cigüeñas
URL:https://juventud.ayto-caceres.es/evento/concierto-capitan-bombay/
LOCATION:El Corral de las Cigüeñas\, Cta. de Aldana\, 6\, Cáceres\, 10003\, España
CATEGORIES:Música
ATTACH;FMTTYPE=image/jpeg:https://juventud.ayto-caceres.es/wp-content/uploads/2024/09/Corral.jpg
END:VEVENT
BEGIN:VEVENT
DTSTART;TZID=Europe/Madrid:20240905T213000
DTEND;TZID=Europe/Madrid:20240916T233000
DTSTAMP:20260420T090012
CREATED:20240823T111120Z
LAST-MODIFIED:20240823T111120Z
UID:10007036-1725571800-1726529400@juventud.ayto-caceres.es
SUMMARY:Exposición "La Pesca\, después de una vida dedicada"
DESCRIPTION:
URL:https://juventud.ayto-caceres.es/evento/exposicion-la-pesca-despues-de-una-vida-dedicada/2024-09-05/
LOCATION:Espacio Belleartes\, C. Donoso Cortés\, 6\, Cáceres\, Cáceres\, 10003\, España
CATEGORIES:Exposiciones
ATTACH;FMTTYPE=image/jpeg:https://juventud.ayto-caceres.es/wp-content/uploads/2024/08/Belle.jpg
END:VEVENT
BEGIN:VEVENT
DTSTART;TZID=Europe/Madrid:20240906T170000
DTEND;TZID=Europe/Madrid:20240907T230000
DTSTAMP:20260420T090012
CREATED:20240904T115150Z
LAST-MODIFIED:20240904T115150Z
UID:10007047-1725642000-1725750000@juventud.ayto-caceres.es
SUMMARY:Competición Nacional de Carreras de Drones
DESCRIPTION:Cáceres acogerá\, el 6 y 7 de septiembre\, la Primera Competición Nacional de Carreras de Drones en Extremadura La “Fórmula 1 del aire” podrá verse en el Pabellón Multiusos de manera totalmente gratuita y segura \nDos competiciones que se celebrarán los próximos 6 y 7 de septiembre en el Pabellón Multiusos de Cáceres.
URL:https://juventud.ayto-caceres.es/evento/competicion-nacional-de-carreras-de-drones/2024-09-06/
LOCATION:Pabellón Multiusos\, Av. Pierre de Coubertin\, s/n\, Cáceres\, Cáceres\, 10005\, España
CATEGORIES:Otras
ATTACH;FMTTYPE=image/jpeg:https://juventud.ayto-caceres.es/wp-content/uploads/2024/09/Dronesjpg.jpg
END:VEVENT
BEGIN:VEVENT
DTSTART;TZID=Europe/Madrid:20240906T190000
DTEND;TZID=Europe/Madrid:20240906T233000
DTSTAMP:20260420T090012
CREATED:20240823T111120Z
LAST-MODIFIED:20240823T111120Z
UID:10007037-1725649200-1725665400@juventud.ayto-caceres.es
SUMMARY:Exposición "La Pesca\, después de una vida dedicada"
DESCRIPTION:
URL:https://juventud.ayto-caceres.es/evento/exposicion-la-pesca-despues-de-una-vida-dedicada/2024-09-06/
LOCATION:Espacio Belleartes\, C. Donoso Cortés\, 6\, Cáceres\, Cáceres\, 10003\, España
CATEGORIES:Exposiciones
ATTACH;FMTTYPE=image/jpeg:https://juventud.ayto-caceres.es/wp-content/uploads/2024/08/Belle.jpg
END:VEVENT
BEGIN:VEVENT
DTSTART;TZID=Europe/Madrid:20240906T200000
DTEND;TZID=Europe/Madrid:20240908T233000
DTSTAMP:20260420T090012
CREATED:20240822T081924Z
LAST-MODIFIED:20240822T081924Z
UID:10007033-1725652800-1725838200@juventud.ayto-caceres.es
SUMMARY:Escenario Amex
DESCRIPTION:Lugar: Foro de los Balbos \nFecha: 6\, 7 y 8 septiembre 2024
URL:https://juventud.ayto-caceres.es/evento/escenario-amex/2024-09-06/
LOCATION:Plaza Mayor Cáceres\, Plaza Mayor\, Cáceres\, Cáceres\, España
CATEGORIES:Música
ATTACH;FMTTYPE=image/jpeg:https://juventud.ayto-caceres.es/wp-content/uploads/2024/08/Amex.jpg
END:VEVENT
BEGIN:VEVENT
DTSTART;TZID=Europe/Madrid:20240907T170000
DTEND;TZID=Europe/Madrid:20240907T230000
DTSTAMP:20260420T090012
CREATED:20240904T115150Z
LAST-MODIFIED:20240904T115150Z
UID:10007048-1725728400-1725750000@juventud.ayto-caceres.es
SUMMARY:Competición Nacional de Carreras de Drones
DESCRIPTION:Cáceres acogerá\, el 6 y 7 de septiembre\, la Primera Competición Nacional de Carreras de Drones en Extremadura La “Fórmula 1 del aire” podrá verse en el Pabellón Multiusos de manera totalmente gratuita y segura \nDos competiciones que se celebrarán los próximos 6 y 7 de septiembre en el Pabellón Multiusos de Cáceres.
URL:https://juventud.ayto-caceres.es/evento/competicion-nacional-de-carreras-de-drones/2024-09-07/
LOCATION:Pabellón Multiusos\, Av. Pierre de Coubertin\, s/n\, Cáceres\, Cáceres\, 10005\, España
CATEGORIES:Otras
ATTACH;FMTTYPE=image/jpeg:https://juventud.ayto-caceres.es/wp-content/uploads/2024/09/Dronesjpg.jpg
END:VEVENT
BEGIN:VEVENT
DTSTART;TZID=Europe/Madrid:20240907T190000
DTEND;TZID=Europe/Madrid:20240907T233000
DTSTAMP:20260420T090012
CREATED:20240823T111120Z
LAST-MODIFIED:20240823T111120Z
UID:10007038-1725735600-1725751800@juventud.ayto-caceres.es
SUMMARY:Exposición "La Pesca\, después de una vida dedicada"
DESCRIPTION:
URL:https://juventud.ayto-caceres.es/evento/exposicion-la-pesca-despues-de-una-vida-dedicada/2024-09-07/
LOCATION:Espacio Belleartes\, C. Donoso Cortés\, 6\, Cáceres\, Cáceres\, 10003\, España
CATEGORIES:Exposiciones
ATTACH;FMTTYPE=image/jpeg:https://juventud.ayto-caceres.es/wp-content/uploads/2024/08/Belle.jpg
END:VEVENT
BEGIN:VEVENT
DTSTART;TZID=Europe/Madrid:20240907T200000
DTEND;TZID=Europe/Madrid:20240907T233000
DTSTAMP:20260420T090012
CREATED:20240822T081924Z
LAST-MODIFIED:20240822T081924Z
UID:10007034-1725739200-1725751800@juventud.ayto-caceres.es
SUMMARY:Escenario Amex
DESCRIPTION:Lugar: Foro de los Balbos \nFecha: 6\, 7 y 8 septiembre 2024
URL:https://juventud.ayto-caceres.es/evento/escenario-amex/2024-09-07/
LOCATION:Plaza Mayor Cáceres\, Plaza Mayor\, Cáceres\, Cáceres\, España
CATEGORIES:Música
ATTACH;FMTTYPE=image/jpeg:https://juventud.ayto-caceres.es/wp-content/uploads/2024/08/Amex.jpg
END:VEVENT
BEGIN:VEVENT
DTSTART;TZID=Europe/Madrid:20240908T200000
DTEND;TZID=Europe/Madrid:20240908T233000
DTSTAMP:20260420T090012
CREATED:20240822T081924Z
LAST-MODIFIED:20240822T081924Z
UID:10007035-1725825600-1725838200@juventud.ayto-caceres.es
SUMMARY:Escenario Amex
DESCRIPTION:Lugar: Foro de los Balbos \nFecha: 6\, 7 y 8 septiembre 2024
URL:https://juventud.ayto-caceres.es/evento/escenario-amex/2024-09-08/
LOCATION:Plaza Mayor Cáceres\, Plaza Mayor\, Cáceres\, Cáceres\, España
CATEGORIES:Música
ATTACH;FMTTYPE=image/jpeg:https://juventud.ayto-caceres.es/wp-content/uploads/2024/08/Amex.jpg
END:VEVENT
END:VCALENDAR