BEGIN:VCALENDAR
VERSION:2.0
PRODID:-//Portal de Juventud - ECPv6.15.14//NONSGML v1.0//EN
CALSCALE:GREGORIAN
METHOD:PUBLISH
X-ORIGINAL-URL:https://juventud.ayto-caceres.es
X-WR-CALDESC:Eventos para Portal de Juventud
REFRESH-INTERVAL;VALUE=DURATION:PT1H
X-Robots-Tag:noindex
X-PUBLISHED-TTL:PT1H
BEGIN:VTIMEZONE
TZID:Europe/Madrid
BEGIN:DAYLIGHT
TZOFFSETFROM:+0100
TZOFFSETTO:+0200
TZNAME:CEST
DTSTART:20230326T010000
END:DAYLIGHT
BEGIN:STANDARD
TZOFFSETFROM:+0200
TZOFFSETTO:+0100
TZNAME:CET
DTSTART:20231029T010000
END:STANDARD
BEGIN:DAYLIGHT
TZOFFSETFROM:+0100
TZOFFSETTO:+0200
TZNAME:CEST
DTSTART:20240331T010000
END:DAYLIGHT
BEGIN:STANDARD
TZOFFSETFROM:+0200
TZOFFSETTO:+0100
TZNAME:CET
DTSTART:20241027T010000
END:STANDARD
BEGIN:DAYLIGHT
TZOFFSETFROM:+0100
TZOFFSETTO:+0200
TZNAME:CEST
DTSTART:20250330T010000
END:DAYLIGHT
BEGIN:STANDARD
TZOFFSETFROM:+0200
TZOFFSETTO:+0100
TZNAME:CET
DTSTART:20251026T010000
END:STANDARD
BEGIN:DAYLIGHT
TZOFFSETFROM:+0100
TZOFFSETTO:+0200
TZNAME:CEST
DTSTART:20260329T010000
END:DAYLIGHT
BEGIN:STANDARD
TZOFFSETFROM:+0200
TZOFFSETTO:+0100
TZNAME:CET
DTSTART:20261025T010000
END:STANDARD
END:VTIMEZONE
BEGIN:VEVENT
DTSTART;TZID=Europe/Madrid:20241108T193000
DTEND;TZID=Europe/Madrid:20250110T213000
DTSTAMP:20260420T015850
CREATED:20241108T092004Z
LAST-MODIFIED:20241108T092004Z
UID:10008962-1731094200-1736544600@juventud.ayto-caceres.es
SUMMARY:Exposición "Soy la loba y soy la liebre" de Gels Caletrío
DESCRIPTION:Os invitamos el viernes 8 de noviembre a nuestra nueva exposición “Soy la loba\, y soy la liebre”\, una inspiradora nuestra de la artista placentina Gels Caletrío. En esta muestra\, Gels se adentra en su salud mental\, explorando la ansiedad y la depresión como personajes que coexisten en su vida.
URL:https://juventud.ayto-caceres.es/evento/exposicion-soy-la-loba-y-soy-la-liebre-de-gels-caletrio/
LOCATION:La Sindicalista Estudio\, Calle Roso de Luna\, 15\, Cáceres\, Cáceres\, 10003\, España
CATEGORIES:Exposiciones
ATTACH;FMTTYPE=image/jpeg:https://juventud.ayto-caceres.es/wp-content/uploads/2024/11/Expo.jpg
END:VEVENT
BEGIN:VEVENT
DTSTART;TZID=Europe/Madrid:20241122T203000
DTEND;TZID=Europe/Madrid:20241222T233000
DTSTAMP:20260420T015850
CREATED:20241119T090822Z
LAST-MODIFIED:20241119T090822Z
UID:10009004-1732307400-1734910200@juventud.ayto-caceres.es
SUMMARY:Exposición "Intuición" de Cora Ibáñez
DESCRIPTION:Lugar: Las paredes del Gran Café. \nInauguración: 22 noviembre. 20:30 h.
URL:https://juventud.ayto-caceres.es/evento/exposicion-intuicion-de-cora-ibanez/
LOCATION:Gran Café\, C. San Pedro de Alcántara\, 6\, Cáceres\, Cáceres\, 10001
CATEGORIES:Exposiciones
ATTACH;FMTTYPE=image/jpeg:https://juventud.ayto-caceres.es/wp-content/uploads/2024/11/Expo-Cora.jpg
END:VEVENT
BEGIN:VEVENT
DTSTART;TZID=Europe/Madrid:20241127T200000
DTEND;TZID=Europe/Madrid:20241213T213000
DTSTAMP:20260420T015850
CREATED:20241125T123526Z
LAST-MODIFIED:20241125T123526Z
UID:10009020-1732737600-1734125400@juventud.ayto-caceres.es
SUMMARY:Exposición solidaria
DESCRIPTION:
URL:https://juventud.ayto-caceres.es/evento/exposicion-solidaria/
LOCATION:Club Tenis Cabezarrubia\, Camino de la Sierrilla\, 1\, Cáceres\, Cáceres\, 10005\, España
CATEGORIES:Exposiciones
ATTACH;FMTTYPE=image/jpeg:https://juventud.ayto-caceres.es/wp-content/uploads/2024/11/Expo-Club.jpg
END:VEVENT
BEGIN:VEVENT
DTSTART;TZID=Europe/Madrid:20241128T200000
DTEND;TZID=Europe/Madrid:20250111T213000
DTSTAMP:20260420T015850
CREATED:20241125T121916Z
LAST-MODIFIED:20241125T121916Z
UID:10009019-1732824000-1736631000@juventud.ayto-caceres.es
SUMMARY:Exposición XXVII Premio de Artes Plasticas Sala El Brocense. Obras seleccionadas
DESCRIPTION:inauguración de la exposición del  XXVII PREMIO DE ARTES PLASTICAS SALA EL BROCENSE. OBRAS SELECCIONADAS que tendrá lugar el próximo jueves 28 de noviembre a las 20:00 h. en la Sala de Arte el Brocense durante la cual se dará a conocer el fallo del Jurado.
URL:https://juventud.ayto-caceres.es/evento/exposicion-xxvii-premio-de-artes-plasticas-sala-el-brocense-obras-seleccionadas/
LOCATION:Sala Arte Brocense\, C. San Antón\, 17\, Cáceres\, Cáceres\, 10003
CATEGORIES:Exposiciones
ATTACH;FMTTYPE=image/jpeg:https://juventud.ayto-caceres.es/wp-content/uploads/2024/11/Premio.jpg
END:VEVENT
BEGIN:VEVENT
DTSTART;TZID=Europe/Madrid:20241204T190000
DTEND;TZID=Europe/Madrid:20241204T200000
DTSTAMP:20260420T015850
CREATED:20241202T085257Z
LAST-MODIFIED:20241202T085257Z
UID:10009046-1733338800-1733342400@juventud.ayto-caceres.es
SUMMARY:Presentación del libro "Noche oscura sobre Berlín" de Montaña Campón
DESCRIPTION:
URL:https://juventud.ayto-caceres.es/evento/presentacion-del-libro-noche-oscura-sobre-berlin-de-montana-campon/
LOCATION:Biblioteca Pública de Cáceres\, C. Alfonso IX\, 26\, Cáceres\, Cáceres\, 10004\, España
CATEGORIES:Cultura
ATTACH;FMTTYPE=image/png:https://juventud.ayto-caceres.es/wp-content/uploads/2024/12/Noche-oscura-sobre-Berlin.png
END:VEVENT
BEGIN:VEVENT
DTSTART;TZID=Europe/Madrid:20241204T200000
DTEND;TZID=Europe/Madrid:20241204T213000
DTSTAMP:20260420T015850
CREATED:20241202T082605Z
LAST-MODIFIED:20241202T082605Z
UID:10009041-1733342400-1733347800@juventud.ayto-caceres.es
SUMMARY:Concierto benéfico
DESCRIPTION:Concierto benéfico a favor de los afectados por la DANA de Valencia. Una veintena de músicos unidos por esta causa.
URL:https://juventud.ayto-caceres.es/evento/concierto-benefico/
LOCATION:Complejo Cultural San Francisco\, Rda. de San Francisco\, 15\, Centro\, Cáceres\, Cáceres\, 10002\, España
CATEGORIES:Música
ATTACH;FMTTYPE=image/jpeg:https://juventud.ayto-caceres.es/wp-content/uploads/2024/12/Concierto.jpg
END:VEVENT
BEGIN:VEVENT
DTSTART;TZID=Europe/Madrid:20241204T210000
DTEND;TZID=Europe/Madrid:20241204T223000
DTSTAMP:20260420T015850
CREATED:20241202T083020Z
LAST-MODIFIED:20241202T083020Z
UID:10009042-1733346000-1733351400@juventud.ayto-caceres.es
SUMMARY:Habla de Cine #30 Ser un espíritu en Navidad.
DESCRIPTION:Llegamos al final de la temporada fílmica con la calidez incondicional de un proyector y tres películas. \nLa navidad\, con sus ilusiones\, sus deseos y sus espíritus\, nos guían en este rito de paso\, inspiradora de tantas bellas historias. Tres espíritus\, a modo de pasado\, presente y futuro\, viven en las películas que proyectaremos los miércoles de diciembre y nos obsequiarán con valiosas lecciones. \nEste mes\, cumplimos 30 ediciones de nuestro club de cine y tenemos preparadas varias sorpresas y un sorteo\, coincidiendo con la última de las proyecciones ¡No te lo pierdas! Estás invitado a nuestra celebración. Más de 100 películas proyectadas en los últimos 3 años. \nSesión 1. Miércoles 4 de diciembre: ‘La mujer del Obispo’ 1947 \nSesión 2. Miércoles 11 de diciembre: ‘Cuento de Navidad’ 1938 \nSesión 3. Miércoles 18 de diciembre: ‘The snowman’ 1982 (En esta sesión se celebrará un sorteo por la celebración de la 30 edición de Habla de Cine) \nCon tu donativo de entrada tendrás palomitas gratis y gominolas navideñas.
URL:https://juventud.ayto-caceres.es/evento/habla-de-cine-30-ser-un-espiritu-en-navidad/2024-12-04/
LOCATION:Taberna Sir Lancelot Cáceres\, C. de la Monja\, 2\, Cáceres\, Cáceres\, 10003
CATEGORIES:Cine
ATTACH;FMTTYPE=image/png:https://juventud.ayto-caceres.es/wp-content/uploads/2024/12/Cine.png
END:VEVENT
BEGIN:VEVENT
DTSTART;TZID=Europe/Madrid:20241205T203000
DTEND;TZID=Europe/Madrid:20241205T220000
DTSTAMP:20260420T015850
CREATED:20241204T083836Z
LAST-MODIFIED:20241204T083836Z
UID:10009049-1733430600-1733436000@juventud.ayto-caceres.es
SUMMARY:Cine "La Atlántida". Filmoteca
DESCRIPTION:La Atlántida\nDie Herrin von Atlantis \nPaís: Alemania. Año: 1932. Duración: 87’ \nCiclo: Jornadas Góticas
URL:https://juventud.ayto-caceres.es/evento/cine-la-atlantida-filmoteca-2/
LOCATION:Filmoteca Extremadura\, C. Rincón de la Monja\, 6\, Cáceres\, Cáceres\, 10003\, España
CATEGORIES:Cine
ATTACH;FMTTYPE=image/jpeg:https://juventud.ayto-caceres.es/wp-content/uploads/2024/12/Atantida_200.jpg
END:VEVENT
BEGIN:VEVENT
DTSTART;TZID=Europe/Madrid:20241206T203000
DTEND;TZID=Europe/Madrid:20241206T220000
DTSTAMP:20260420T015850
CREATED:20241202T084004Z
LAST-MODIFIED:20241202T084004Z
UID:10009045-1733517000-1733522400@juventud.ayto-caceres.es
SUMMARY:Concierto "Pedrá (Tributo a Extremoduro)"
DESCRIPTION:Gran Teatro
URL:https://juventud.ayto-caceres.es/evento/concierto-pedra-tributo-a-extremoduro/
LOCATION:Gran Teatro Cáceres\, C. San Antón\, 10\, Cáceres\, Cáceres\, 10003\, España
CATEGORIES:Música
ATTACH;FMTTYPE=image/jpeg:https://juventud.ayto-caceres.es/wp-content/uploads/2024/12/Gran-Teatro.jpg
END:VEVENT
BEGIN:VEVENT
DTSTART;TZID=Europe/Madrid:20241207T173000
DTEND;TZID=Europe/Madrid:20241207T193000
DTSTAMP:20260420T015850
CREATED:20241204T084424Z
LAST-MODIFIED:20241204T084424Z
UID:10009050-1733592600-1733599800@juventud.ayto-caceres.es
SUMMARY:Concierto "The Ruffos"
DESCRIPTION:
URL:https://juventud.ayto-caceres.es/evento/concierto-the-ruffos/
LOCATION:El Corral de las Cigüeñas\, Cta. de Aldana\, 6\, Cáceres\, 10003\, España
CATEGORIES:Música
ATTACH;FMTTYPE=image/jpeg:https://juventud.ayto-caceres.es/wp-content/uploads/2024/12/Corral.jpg
END:VEVENT
BEGIN:VEVENT
DTSTART;TZID=Europe/Madrid:20241207T203000
DTEND;TZID=Europe/Madrid:20241207T220000
DTSTAMP:20260420T015850
CREATED:20241203T095831Z
LAST-MODIFIED:20241203T095831Z
UID:10009047-1733603400-1733608800@juventud.ayto-caceres.es
SUMMARY:Teatro "FIASKO (O cómo no ser Lauryn Hill)"
DESCRIPTION:
URL:https://juventud.ayto-caceres.es/evento/teatro-fiasko-o-como-no-ser-lauryn-hill/
LOCATION:La Nave del Duende\, Polígono la Cañada 1\, Casar de Cáceres\, 10190\, España
CATEGORIES:Cultura
ATTACH;FMTTYPE=image/jpeg:https://juventud.ayto-caceres.es/wp-content/uploads/2024/12/Nave.jpg
END:VEVENT
BEGIN:VEVENT
DTSTART;TZID=Europe/Madrid:20241208T120000
DTEND;TZID=Europe/Madrid:20241208T133000
DTSTAMP:20260420T015850
CREATED:20241203T100349Z
LAST-MODIFIED:20241203T100349Z
UID:10009048-1733659200-1733664600@juventud.ayto-caceres.es
SUMMARY:Teatro familiar "Hugo"
DESCRIPTION:HUGO es una pieza familiar para todos los públicos que aborda\, con la máxima sensibilidad\, las micro discriminaciones diarias experimentadas por las personas con Trastornos del espectro del autismo (TEA). \nDomingo 8 de diciembre. 2 funciones (12h. y 17h.)
URL:https://juventud.ayto-caceres.es/evento/teatro-familiar-hugo/
LOCATION:Maltravieso Teatro\, C. Parras\, 14\, Cáceres\, Cáceres\, 10004\, España
CATEGORIES:Cultura
ATTACH;FMTTYPE=image/jpeg:https://juventud.ayto-caceres.es/wp-content/uploads/2024/12/Maltravieso.jpg
END:VEVENT
END:VCALENDAR