BEGIN:VCALENDAR
VERSION:2.0
PRODID:-//Portal de Juventud - ECPv6.15.14//NONSGML v1.0//EN
CALSCALE:GREGORIAN
METHOD:PUBLISH
X-WR-CALNAME:Portal de Juventud
X-ORIGINAL-URL:https://juventud.ayto-caceres.es
X-WR-CALDESC:Eventos para Portal de Juventud
REFRESH-INTERVAL;VALUE=DURATION:PT1H
X-Robots-Tag:noindex
X-PUBLISHED-TTL:PT1H
BEGIN:VTIMEZONE
TZID:Europe/Madrid
BEGIN:DAYLIGHT
TZOFFSETFROM:+0100
TZOFFSETTO:+0200
TZNAME:CEST
DTSTART:20230326T010000
END:DAYLIGHT
BEGIN:STANDARD
TZOFFSETFROM:+0200
TZOFFSETTO:+0100
TZNAME:CET
DTSTART:20231029T010000
END:STANDARD
BEGIN:DAYLIGHT
TZOFFSETFROM:+0100
TZOFFSETTO:+0200
TZNAME:CEST
DTSTART:20240331T010000
END:DAYLIGHT
BEGIN:STANDARD
TZOFFSETFROM:+0200
TZOFFSETTO:+0100
TZNAME:CET
DTSTART:20241027T010000
END:STANDARD
BEGIN:DAYLIGHT
TZOFFSETFROM:+0100
TZOFFSETTO:+0200
TZNAME:CEST
DTSTART:20250330T010000
END:DAYLIGHT
BEGIN:STANDARD
TZOFFSETFROM:+0200
TZOFFSETTO:+0100
TZNAME:CET
DTSTART:20251026T010000
END:STANDARD
BEGIN:DAYLIGHT
TZOFFSETFROM:+0100
TZOFFSETTO:+0200
TZNAME:CEST
DTSTART:20260329T010000
END:DAYLIGHT
BEGIN:STANDARD
TZOFFSETFROM:+0200
TZOFFSETTO:+0100
TZNAME:CET
DTSTART:20261025T010000
END:STANDARD
END:VTIMEZONE
BEGIN:VEVENT
DTSTART;TZID=Europe/Madrid:20241108T193000
DTEND;TZID=Europe/Madrid:20250110T213000
DTSTAMP:20260420T031211
CREATED:20241108T092004Z
LAST-MODIFIED:20241108T092004Z
UID:10008962-1731094200-1736544600@juventud.ayto-caceres.es
SUMMARY:Exposición "Soy la loba y soy la liebre" de Gels Caletrío
DESCRIPTION:Os invitamos el viernes 8 de noviembre a nuestra nueva exposición “Soy la loba\, y soy la liebre”\, una inspiradora nuestra de la artista placentina Gels Caletrío. En esta muestra\, Gels se adentra en su salud mental\, explorando la ansiedad y la depresión como personajes que coexisten en su vida.
URL:https://juventud.ayto-caceres.es/evento/exposicion-soy-la-loba-y-soy-la-liebre-de-gels-caletrio/
LOCATION:La Sindicalista Estudio\, Calle Roso de Luna\, 15\, Cáceres\, Cáceres\, 10003\, España
CATEGORIES:Exposiciones
ATTACH;FMTTYPE=image/jpeg:https://juventud.ayto-caceres.es/wp-content/uploads/2024/11/Expo.jpg
END:VEVENT
BEGIN:VEVENT
DTSTART;TZID=Europe/Madrid:20241122T203000
DTEND;TZID=Europe/Madrid:20241222T233000
DTSTAMP:20260420T031211
CREATED:20241119T090822Z
LAST-MODIFIED:20241119T090822Z
UID:10009004-1732307400-1734910200@juventud.ayto-caceres.es
SUMMARY:Exposición "Intuición" de Cora Ibáñez
DESCRIPTION:Lugar: Las paredes del Gran Café. \nInauguración: 22 noviembre. 20:30 h.
URL:https://juventud.ayto-caceres.es/evento/exposicion-intuicion-de-cora-ibanez/
LOCATION:Gran Café\, C. San Pedro de Alcántara\, 6\, Cáceres\, Cáceres\, 10001
CATEGORIES:Exposiciones
ATTACH;FMTTYPE=image/jpeg:https://juventud.ayto-caceres.es/wp-content/uploads/2024/11/Expo-Cora.jpg
END:VEVENT
BEGIN:VEVENT
DTSTART;TZID=Europe/Madrid:20241127T200000
DTEND;TZID=Europe/Madrid:20241213T213000
DTSTAMP:20260420T031211
CREATED:20241125T123526Z
LAST-MODIFIED:20241125T123526Z
UID:10009020-1732737600-1734125400@juventud.ayto-caceres.es
SUMMARY:Exposición solidaria
DESCRIPTION:
URL:https://juventud.ayto-caceres.es/evento/exposicion-solidaria/
LOCATION:Club Tenis Cabezarrubia\, Camino de la Sierrilla\, 1\, Cáceres\, Cáceres\, 10005\, España
CATEGORIES:Exposiciones
ATTACH;FMTTYPE=image/jpeg:https://juventud.ayto-caceres.es/wp-content/uploads/2024/11/Expo-Club.jpg
END:VEVENT
BEGIN:VEVENT
DTSTART;TZID=Europe/Madrid:20241128T200000
DTEND;TZID=Europe/Madrid:20250111T213000
DTSTAMP:20260420T031211
CREATED:20241125T121916Z
LAST-MODIFIED:20241125T121916Z
UID:10009019-1732824000-1736631000@juventud.ayto-caceres.es
SUMMARY:Exposición XXVII Premio de Artes Plasticas Sala El Brocense. Obras seleccionadas
DESCRIPTION:inauguración de la exposición del  XXVII PREMIO DE ARTES PLASTICAS SALA EL BROCENSE. OBRAS SELECCIONADAS que tendrá lugar el próximo jueves 28 de noviembre a las 20:00 h. en la Sala de Arte el Brocense durante la cual se dará a conocer el fallo del Jurado.
URL:https://juventud.ayto-caceres.es/evento/exposicion-xxvii-premio-de-artes-plasticas-sala-el-brocense-obras-seleccionadas/
LOCATION:Sala Arte Brocense\, C. San Antón\, 17\, Cáceres\, Cáceres\, 10003
CATEGORIES:Exposiciones
ATTACH;FMTTYPE=image/jpeg:https://juventud.ayto-caceres.es/wp-content/uploads/2024/11/Premio.jpg
END:VEVENT
BEGIN:VEVENT
DTSTART;TZID=Europe/Madrid:20241210T200000
DTEND;TZID=Europe/Madrid:20241210T220000
DTSTAMP:20260420T031211
CREATED:20241204T084734Z
LAST-MODIFIED:20241204T084734Z
UID:10009051-1733860800-1733868000@juventud.ayto-caceres.es
SUMMARY:Only English
DESCRIPTION:Nuestro Only English ahora celebra la Navidad ven a disfrutar de un tiempo en comunidad\, donde podrás practicar inglés con hablantes nativos de inglés\, picoteo y juegos de mesa! 🎄 FELIZ NAVIDAD
URL:https://juventud.ayto-caceres.es/evento/only-english-4/
LOCATION:Espacio SAAL
CATEGORIES:Otras
ATTACH;FMTTYPE=image/png:https://juventud.ayto-caceres.es/wp-content/uploads/2024/12/SAAL.png
END:VEVENT
BEGIN:VEVENT
DTSTART;TZID=Europe/Madrid:20241210T203000
DTEND;TZID=Europe/Madrid:20241210T220000
DTSTAMP:20260420T031211
CREATED:20241210T121331Z
LAST-MODIFIED:20241210T121331Z
UID:10009052-1733862600-1733868000@juventud.ayto-caceres.es
SUMMARY:Cine "Los santos inocentes". Filmoteca
DESCRIPTION:Los santos inocentes\nPaís: España. Año: 1984. Duración: 103’ \nCiclo: 40 aniversario de Los Santos Inocentes
URL:https://juventud.ayto-caceres.es/evento/cine-los-santos-inocentes-filmoteca/
LOCATION:Filmoteca Extremadura\, C. Rincón de la Monja\, 6\, Cáceres\, Cáceres\, 10003\, España
CATEGORIES:Cine
ATTACH;FMTTYPE=image/jpeg:https://juventud.ayto-caceres.es/wp-content/uploads/2024/12/los_santos_inocentes-200.jpg
END:VEVENT
BEGIN:VEVENT
DTSTART;TZID=Europe/Madrid:20241211T210000
DTEND;TZID=Europe/Madrid:20241211T223000
DTSTAMP:20260420T031211
CREATED:20241202T083020Z
LAST-MODIFIED:20241202T083020Z
UID:10009043-1733950800-1733956200@juventud.ayto-caceres.es
SUMMARY:Habla de Cine #30 Ser un espíritu en Navidad.
DESCRIPTION:Llegamos al final de la temporada fílmica con la calidez incondicional de un proyector y tres películas. \nLa navidad\, con sus ilusiones\, sus deseos y sus espíritus\, nos guían en este rito de paso\, inspiradora de tantas bellas historias. Tres espíritus\, a modo de pasado\, presente y futuro\, viven en las películas que proyectaremos los miércoles de diciembre y nos obsequiarán con valiosas lecciones. \nEste mes\, cumplimos 30 ediciones de nuestro club de cine y tenemos preparadas varias sorpresas y un sorteo\, coincidiendo con la última de las proyecciones ¡No te lo pierdas! Estás invitado a nuestra celebración. Más de 100 películas proyectadas en los últimos 3 años. \nSesión 1. Miércoles 4 de diciembre: ‘La mujer del Obispo’ 1947 \nSesión 2. Miércoles 11 de diciembre: ‘Cuento de Navidad’ 1938 \nSesión 3. Miércoles 18 de diciembre: ‘The snowman’ 1982 (En esta sesión se celebrará un sorteo por la celebración de la 30 edición de Habla de Cine) \nCon tu donativo de entrada tendrás palomitas gratis y gominolas navideñas.
URL:https://juventud.ayto-caceres.es/evento/habla-de-cine-30-ser-un-espiritu-en-navidad/2024-12-11/
LOCATION:Taberna Sir Lancelot Cáceres\, C. de la Monja\, 2\, Cáceres\, Cáceres\, 10003
CATEGORIES:Cine
ATTACH;FMTTYPE=image/png:https://juventud.ayto-caceres.es/wp-content/uploads/2024/12/Cine.png
END:VEVENT
BEGIN:VEVENT
DTSTART;TZID=Europe/Madrid:20241212T080000
DTEND;TZID=Europe/Madrid:20250106T170000
DTSTAMP:20260420T031211
CREATED:20241212T094420Z
LAST-MODIFIED:20241212T094434Z
UID:10009066-1733990400-1736182800@juventud.ayto-caceres.es
SUMMARY:Programa Navidad Cáceres. Siente la Navidad
DESCRIPTION:Programa
URL:https://juventud.ayto-caceres.es/evento/programa-navidad-caceres-siente-la-navidad/
LOCATION:Cáceres
CATEGORIES:Otras
ATTACH;FMTTYPE=image/jpeg:https://juventud.ayto-caceres.es/wp-content/uploads/2024/12/Programa-2024-navidad.jpg
END:VEVENT
BEGIN:VEVENT
DTSTART;TZID=Europe/Madrid:20241212T183000
DTEND;TZID=Europe/Madrid:20241212T193000
DTSTAMP:20260420T031211
CREATED:20241211T131423Z
LAST-MODIFIED:20241211T131423Z
UID:10009056-1734028200-1734031800@juventud.ayto-caceres.es
SUMMARY:Presentación del libro "Huella de sangre"
DESCRIPTION:Juan Gordillo; escritor pacense\, nos presenta su novela «Huella de sangre». La trama versa sobre el Sagrado Mantel de la Última Cena y su desaparición del Museo de la Catedral de Coria en extrañas circunstancias. \n 
URL:https://juventud.ayto-caceres.es/evento/presentacion-del-libro-huella-de-sangre/
LOCATION:Palacio de la Isla\, Plaza de la Concepción\, 4\, Cáceres\, Cáceres\, 10003\, España
CATEGORIES:Cultura
ATTACH;FMTTYPE=image/jpeg:https://juventud.ayto-caceres.es/wp-content/uploads/2024/12/Presentacion.jpg
END:VEVENT
BEGIN:VEVENT
DTSTART;TZID=Europe/Madrid:20241212T183000
DTEND;TZID=Europe/Madrid:20241212T193000
DTSTAMP:20260420T031211
CREATED:20241211T133617Z
LAST-MODIFIED:20241211T133617Z
UID:10009059-1734028200-1734031800@juventud.ayto-caceres.es
SUMMARY:Presentación del libro "Diez cuentos del mundo que ayudan a educar(nos)"\, de Carmen Ibarlucea.
DESCRIPTION:
URL:https://juventud.ayto-caceres.es/evento/presentacion-del-libro-diez-cuentos-del-mundo-que-ayudan-a-educarnos-de-carmen-ibarlucea/
LOCATION:Biblioteca Pública de Cáceres\, C. Alfonso IX\, 26\, Cáceres\, Cáceres\, 10004\, España
CATEGORIES:Cultura
ATTACH;FMTTYPE=image/png:https://juventud.ayto-caceres.es/wp-content/uploads/2024/12/Diez-cuentos-del-mundo-que-ayudan-a-educarnos.png
END:VEVENT
BEGIN:VEVENT
DTSTART;TZID=Europe/Madrid:20241212T190000
DTEND;TZID=Europe/Madrid:20250110T220000
DTSTAMP:20260420T031211
CREATED:20241211T131201Z
LAST-MODIFIED:20241211T131201Z
UID:10009055-1734030000-1736546400@juventud.ayto-caceres.es
SUMMARY:Exposición "Burbujas en el hielo"
DESCRIPTION:Lugar: Palacio de la Isla
URL:https://juventud.ayto-caceres.es/evento/exposicion-burbujas-en-el-hielo/
LOCATION:Palacio de la Isla\, Plaza de la Concepción\, 4\, Cáceres\, Cáceres\, 10003\, España
CATEGORIES:Exposiciones
ATTACH;FMTTYPE=image/jpeg:https://juventud.ayto-caceres.es/wp-content/uploads/2024/12/Expo.jpg
END:VEVENT
BEGIN:VEVENT
DTSTART;TZID=Europe/Madrid:20241212T203000
DTEND;TZID=Europe/Madrid:20241212T213000
DTSTAMP:20260420T031211
CREATED:20241212T073321Z
LAST-MODIFIED:20241212T073321Z
UID:10009060-1734035400-1734039000@juventud.ayto-caceres.es
SUMMARY:Concierto "Suso Sudón"
DESCRIPTION:
URL:https://juventud.ayto-caceres.es/evento/concierto-suso-sudon/
LOCATION:Espacio Belleartes\, C. Donoso Cortés\, 6\, Cáceres\, Cáceres\, 10003\, España
CATEGORIES:Música
ATTACH;FMTTYPE=image/jpeg:https://juventud.ayto-caceres.es/wp-content/uploads/2024/12/Suso-scaled.jpg
END:VEVENT
BEGIN:VEVENT
DTSTART;TZID=Europe/Madrid:20241212T203000
DTEND;TZID=Europe/Madrid:20241212T220000
DTSTAMP:20260420T031211
CREATED:20241210T121536Z
LAST-MODIFIED:20241210T121536Z
UID:10009053-1734035400-1734040800@juventud.ayto-caceres.es
SUMMARY:Cine "El Rapto". Filmoteca
DESCRIPTION:El rapto\nRapìto \nPaís: Italia. Año: 2023. Duración: 134’ \nCiclo: Foco Festivales
URL:https://juventud.ayto-caceres.es/evento/cine-el-rapto-filmoteca/
LOCATION:Filmoteca Extremadura\, C. Rincón de la Monja\, 6\, Cáceres\, Cáceres\, 10003\, España
CATEGORIES:Cine
ATTACH;FMTTYPE=image/jpeg:https://juventud.ayto-caceres.es/wp-content/uploads/2024/12/Elrapto-200.jpg
END:VEVENT
BEGIN:VEVENT
DTSTART;TZID=Europe/Madrid:20241212T210000
DTEND;TZID=Europe/Madrid:20241212T223000
DTSTAMP:20260420T031211
CREATED:20241212T074938Z
LAST-MODIFIED:20241212T074938Z
UID:10009063-1734037200-1734042600@juventud.ayto-caceres.es
SUMMARY:Concierto "El Arrebato"
DESCRIPTION:
URL:https://juventud.ayto-caceres.es/evento/concierto-el-arrebato/
LOCATION:Palacio de Congresos de Cáceres\, Avda. de la Hispanidad\, S/N\, Cáceres\, cáceres\, 10005\, España
CATEGORIES:Música
ATTACH;FMTTYPE=image/jpeg:https://juventud.ayto-caceres.es/wp-content/uploads/2024/12/Arrebato.jpeg
END:VEVENT
BEGIN:VEVENT
DTSTART;TZID=Europe/Madrid:20241213T200000
DTEND;TZID=Europe/Madrid:20241213T220000
DTSTAMP:20260420T031211
CREATED:20241212T073531Z
LAST-MODIFIED:20241212T073557Z
UID:10009061-1734120000-1734127200@juventud.ayto-caceres.es
SUMMARY:Triálogo 2 "Al Estilo Tarantino\, entre Novias\, Poesía y Bellas Cicatrices"
DESCRIPTION:Especial de Navidad a beneficio de los afectados por la Dana de Valencia
URL:https://juventud.ayto-caceres.es/evento/trialogo-2-al-estilo-tarantino-entre-novias-poesia-y-bellas-cicatrices/
LOCATION:Espacio Belleartes\, C. Donoso Cortés\, 6\, Cáceres\, Cáceres\, 10003\, España
CATEGORIES:Cultura
ATTACH;FMTTYPE=image/jpeg:https://juventud.ayto-caceres.es/wp-content/uploads/2024/12/TECNOSOFIA-CARTEL.jpg
END:VEVENT
BEGIN:VEVENT
DTSTART;TZID=Europe/Madrid:20241213T203000
DTEND;TZID=Europe/Madrid:20241213T220000
DTSTAMP:20260420T031211
CREATED:20241210T121740Z
LAST-MODIFIED:20241210T121740Z
UID:10009054-1734121800-1734127200@juventud.ayto-caceres.es
SUMMARY:Cine "Blondi". Filmoteca
DESCRIPTION:Blondi\nPaís: Argentina. Año: 2023. Duración: 88’ \nCiclo: Cine Latinoamericano
URL:https://juventud.ayto-caceres.es/evento/cine-blondi-filmoteca/
LOCATION:Filmoteca Extremadura\, C. Rincón de la Monja\, 6\, Cáceres\, Cáceres\, 10003\, España
CATEGORIES:Cine
ATTACH;FMTTYPE=image/jpeg:https://juventud.ayto-caceres.es/wp-content/uploads/2024/12/blondi-200.jpg
END:VEVENT
BEGIN:VEVENT
DTSTART;TZID=Europe/Madrid:20241213T203000
DTEND;TZID=Europe/Madrid:20241213T220000
DTSTAMP:20260420T031211
CREATED:20241212T075205Z
LAST-MODIFIED:20241212T075213Z
UID:10009064-1734121800-1734127200@juventud.ayto-caceres.es
SUMMARY:Alex Clavero. La nueva normalidad
DESCRIPTION:
URL:https://juventud.ayto-caceres.es/evento/alex-claverol-la-nueva-normalidad/
LOCATION:Palacio de Congresos de Cáceres\, Avda. de la Hispanidad\, S/N\, Cáceres\, cáceres\, 10005\, España
CATEGORIES:Otras
ATTACH;FMTTYPE=image/jpeg:https://juventud.ayto-caceres.es/wp-content/uploads/2024/12/Alex-Clavero.jpeg
END:VEVENT
BEGIN:VEVENT
DTSTART;TZID=Europe/Madrid:20241213T210000
DTEND;TZID=Europe/Madrid:20241213T233000
DTSTAMP:20260420T031211
CREATED:20241211T132918Z
LAST-MODIFIED:20241211T132918Z
UID:10009057-1734123600-1734132600@juventud.ayto-caceres.es
SUMMARY:Conciertos "New Phoenix" "The Farraguas"
DESCRIPTION:
URL:https://juventud.ayto-caceres.es/evento/conciertos-new-phoenix-the-farraguas/
LOCATION:Boogaloo Club\, Av. de Hernán Cortés\, 10\, Cáceres\, Cáceres\, 10004\, España
CATEGORIES:Música
ATTACH;FMTTYPE=image/jpeg:https://juventud.ayto-caceres.es/wp-content/uploads/2024/12/Boogaloo.jpg
END:VEVENT
BEGIN:VEVENT
DTSTART;TZID=Europe/Madrid:20241214T173000
DTEND;TZID=Europe/Madrid:20241214T190000
DTSTAMP:20260420T031211
CREATED:20241212T074629Z
LAST-MODIFIED:20241212T074629Z
UID:10009062-1734197400-1734202800@juventud.ayto-caceres.es
SUMMARY:Concierto "Bootleg"
DESCRIPTION:
URL:https://juventud.ayto-caceres.es/evento/concierto-bootleg-2/
LOCATION:El Corral de las Cigüeñas\, Cta. de Aldana\, 6\, Cáceres\, 10003\, España
CATEGORIES:Música
ATTACH;FMTTYPE=image/png:https://juventud.ayto-caceres.es/wp-content/uploads/2024/12/Corral.png
END:VEVENT
BEGIN:VEVENT
DTSTART;TZID=Europe/Madrid:20241214T193000
DTEND;TZID=Europe/Madrid:20241214T210000
DTSTAMP:20260420T031211
CREATED:20241212T080011Z
LAST-MODIFIED:20241212T080011Z
UID:10009065-1734204600-1734210000@juventud.ayto-caceres.es
SUMMARY:De Muggle a Mago. Magia\, danza\, teatro
DESCRIPTION:
URL:https://juventud.ayto-caceres.es/evento/de-muggle-a-mago-magia-danza-teatro/
LOCATION:Palacio de Congresos de Cáceres\, Avda. de la Hispanidad\, S/N\, Cáceres\, cáceres\, 10005\, España
CATEGORIES:Otras
ATTACH;FMTTYPE=image/jpeg:https://juventud.ayto-caceres.es/wp-content/uploads/2024/12/Muggle.jpeg
END:VEVENT
BEGIN:VEVENT
DTSTART;TZID=Europe/Madrid:20241214T200000
DTEND;TZID=Europe/Madrid:20241214T220000
DTSTAMP:20260420T031211
CREATED:20241211T133111Z
LAST-MODIFIED:20241211T133111Z
UID:10009058-1734206400-1734213600@juventud.ayto-caceres.es
SUMMARY:Concierto de Navidad Enclave
DESCRIPTION:
URL:https://juventud.ayto-caceres.es/evento/concierto-de-navidad-enclave/
LOCATION:Boogaloo Club\, Av. de Hernán Cortés\, 10\, Cáceres\, Cáceres\, 10004\, España
CATEGORIES:Música
ATTACH;FMTTYPE=image/jpeg:https://juventud.ayto-caceres.es/wp-content/uploads/2024/12/Boogaloo-1.jpg
END:VEVENT
END:VCALENDAR