BEGIN:VCALENDAR
VERSION:2.0
PRODID:-//Portal de Juventud - ECPv6.15.14//NONSGML v1.0//EN
CALSCALE:GREGORIAN
METHOD:PUBLISH
X-ORIGINAL-URL:https://juventud.ayto-caceres.es
X-WR-CALDESC:Eventos para Portal de Juventud
REFRESH-INTERVAL;VALUE=DURATION:PT1H
X-Robots-Tag:noindex
X-PUBLISHED-TTL:PT1H
BEGIN:VTIMEZONE
TZID:Europe/Madrid
BEGIN:DAYLIGHT
TZOFFSETFROM:+0100
TZOFFSETTO:+0200
TZNAME:CEST
DTSTART:20230326T010000
END:DAYLIGHT
BEGIN:STANDARD
TZOFFSETFROM:+0200
TZOFFSETTO:+0100
TZNAME:CET
DTSTART:20231029T010000
END:STANDARD
BEGIN:DAYLIGHT
TZOFFSETFROM:+0100
TZOFFSETTO:+0200
TZNAME:CEST
DTSTART:20240331T010000
END:DAYLIGHT
BEGIN:STANDARD
TZOFFSETFROM:+0200
TZOFFSETTO:+0100
TZNAME:CET
DTSTART:20241027T010000
END:STANDARD
BEGIN:DAYLIGHT
TZOFFSETFROM:+0100
TZOFFSETTO:+0200
TZNAME:CEST
DTSTART:20250330T010000
END:DAYLIGHT
BEGIN:STANDARD
TZOFFSETFROM:+0200
TZOFFSETTO:+0100
TZNAME:CET
DTSTART:20251026T010000
END:STANDARD
BEGIN:DAYLIGHT
TZOFFSETFROM:+0100
TZOFFSETTO:+0200
TZNAME:CEST
DTSTART:20260329T010000
END:DAYLIGHT
BEGIN:STANDARD
TZOFFSETFROM:+0200
TZOFFSETTO:+0100
TZNAME:CET
DTSTART:20261025T010000
END:STANDARD
END:VTIMEZONE
BEGIN:VEVENT
DTSTART;TZID=Europe/Madrid:20241108T193000
DTEND;TZID=Europe/Madrid:20250110T213000
DTSTAMP:20260420T031413
CREATED:20241108T092004Z
LAST-MODIFIED:20241108T092004Z
UID:10008962-1731094200-1736544600@juventud.ayto-caceres.es
SUMMARY:Exposición "Soy la loba y soy la liebre" de Gels Caletrío
DESCRIPTION:Os invitamos el viernes 8 de noviembre a nuestra nueva exposición “Soy la loba\, y soy la liebre”\, una inspiradora nuestra de la artista placentina Gels Caletrío. En esta muestra\, Gels se adentra en su salud mental\, explorando la ansiedad y la depresión como personajes que coexisten en su vida.
URL:https://juventud.ayto-caceres.es/evento/exposicion-soy-la-loba-y-soy-la-liebre-de-gels-caletrio/
LOCATION:La Sindicalista Estudio\, Calle Roso de Luna\, 15\, Cáceres\, Cáceres\, 10003\, España
CATEGORIES:Exposiciones
ATTACH;FMTTYPE=image/jpeg:https://juventud.ayto-caceres.es/wp-content/uploads/2024/11/Expo.jpg
END:VEVENT
BEGIN:VEVENT
DTSTART;TZID=Europe/Madrid:20241128T200000
DTEND;TZID=Europe/Madrid:20250111T213000
DTSTAMP:20260420T031413
CREATED:20241125T121916Z
LAST-MODIFIED:20241125T121916Z
UID:10009019-1732824000-1736631000@juventud.ayto-caceres.es
SUMMARY:Exposición XXVII Premio de Artes Plasticas Sala El Brocense. Obras seleccionadas
DESCRIPTION:inauguración de la exposición del  XXVII PREMIO DE ARTES PLASTICAS SALA EL BROCENSE. OBRAS SELECCIONADAS que tendrá lugar el próximo jueves 28 de noviembre a las 20:00 h. en la Sala de Arte el Brocense durante la cual se dará a conocer el fallo del Jurado.
URL:https://juventud.ayto-caceres.es/evento/exposicion-xxvii-premio-de-artes-plasticas-sala-el-brocense-obras-seleccionadas/
LOCATION:Sala Arte Brocense\, C. San Antón\, 17\, Cáceres\, Cáceres\, 10003
CATEGORIES:Exposiciones
ATTACH;FMTTYPE=image/jpeg:https://juventud.ayto-caceres.es/wp-content/uploads/2024/11/Premio.jpg
END:VEVENT
BEGIN:VEVENT
DTSTART;TZID=Europe/Madrid:20241212T080000
DTEND;TZID=Europe/Madrid:20250106T170000
DTSTAMP:20260420T031413
CREATED:20241212T094420Z
LAST-MODIFIED:20241212T094434Z
UID:10009066-1733990400-1736182800@juventud.ayto-caceres.es
SUMMARY:Programa Navidad Cáceres. Siente la Navidad
DESCRIPTION:Programa
URL:https://juventud.ayto-caceres.es/evento/programa-navidad-caceres-siente-la-navidad/
LOCATION:Cáceres
CATEGORIES:Otras
ATTACH;FMTTYPE=image/jpeg:https://juventud.ayto-caceres.es/wp-content/uploads/2024/12/Programa-2024-navidad.jpg
END:VEVENT
BEGIN:VEVENT
DTSTART;TZID=Europe/Madrid:20241212T190000
DTEND;TZID=Europe/Madrid:20250110T220000
DTSTAMP:20260420T031413
CREATED:20241211T131201Z
LAST-MODIFIED:20241211T131201Z
UID:10009055-1734030000-1736546400@juventud.ayto-caceres.es
SUMMARY:Exposición "Burbujas en el hielo"
DESCRIPTION:Lugar: Palacio de la Isla
URL:https://juventud.ayto-caceres.es/evento/exposicion-burbujas-en-el-hielo/
LOCATION:Palacio de la Isla\, Plaza de la Concepción\, 4\, Cáceres\, Cáceres\, 10003\, España
CATEGORIES:Exposiciones
ATTACH;FMTTYPE=image/jpeg:https://juventud.ayto-caceres.es/wp-content/uploads/2024/12/Expo.jpg
END:VEVENT
BEGIN:VEVENT
DTSTART;TZID=Europe/Madrid:20241226T210000
DTEND;TZID=Europe/Madrid:20241226T223000
DTSTAMP:20260420T031413
CREATED:20241223T102226Z
LAST-MODIFIED:20241223T102226Z
UID:10009082-1735246800-1735252200@juventud.ayto-caceres.es
SUMMARY:Concierto "El Faro de Aqualun"
DESCRIPTION:
URL:https://juventud.ayto-caceres.es/evento/concierto-el-faro-de-aqualun/
LOCATION:Cáceres
CATEGORIES:Música
ATTACH;FMTTYPE=image/jpeg:https://juventud.ayto-caceres.es/wp-content/uploads/2024/12/Boogaloo-3.jpg
END:VEVENT
BEGIN:VEVENT
DTSTART;TZID=Europe/Madrid:20241227T160000
DTEND;TZID=Europe/Madrid:20241227T200000
DTSTAMP:20260420T031413
CREATED:20241223T114103Z
LAST-MODIFIED:20241223T114103Z
UID:10009084-1735315200-1735329600@juventud.ayto-caceres.es
SUMMARY:Festival "Reggae a Granel #2"
DESCRIPTION:
URL:https://juventud.ayto-caceres.es/evento/festival-reggae-a-granel-2/
LOCATION:Espacio Creación Joven\, C. de la Juventud\, 2\, Cáceres\, Cáceres\, 10003\, España
CATEGORIES:Música
ATTACH;FMTTYPE=image/jpeg:https://juventud.ayto-caceres.es/wp-content/uploads/2024/12/Reggae.jpg
END:VEVENT
BEGIN:VEVENT
DTSTART;TZID=Europe/Madrid:20241227T210000
DTEND;TZID=Europe/Madrid:20241227T223000
DTSTAMP:20260420T031413
CREATED:20241223T112720Z
LAST-MODIFIED:20241223T112720Z
UID:10009083-1735333200-1735338600@juventud.ayto-caceres.es
SUMMARY:Concierto "Funkin´V"
DESCRIPTION:
URL:https://juventud.ayto-caceres.es/evento/concierto-funkinv/
LOCATION:Boogaloo Club\, Av. de Hernán Cortés\, 10\, Cáceres\, Cáceres\, 10004\, España
CATEGORIES:Música
ATTACH;FMTTYPE=image/jpeg:https://juventud.ayto-caceres.es/wp-content/uploads/2024/12/Boogaloo-4.jpg
END:VEVENT
BEGIN:VEVENT
DTSTART;TZID=Europe/Madrid:20241227T210000
DTEND;TZID=Europe/Madrid:20241227T223000
DTSTAMP:20260420T031413
CREATED:20241227T114419Z
LAST-MODIFIED:20241227T114419Z
UID:10009085-1735333200-1735338600@juventud.ayto-caceres.es
SUMMARY:Ballet "La Bella Durmiente"
DESCRIPTION:
URL:https://juventud.ayto-caceres.es/evento/ballet-la-bella-durmiente/
LOCATION:Gran Teatro Cáceres\, C. San Antón\, 10\, Cáceres\, Cáceres\, 10003\, España
CATEGORIES:Cultura
ATTACH;FMTTYPE=image/jpeg:https://juventud.ayto-caceres.es/wp-content/uploads/2024/12/Gran-Teatro-2.jpg
END:VEVENT
BEGIN:VEVENT
DTSTART;TZID=Europe/Madrid:20241228T170000
DTEND;TZID=Europe/Madrid:20241228T190000
DTSTAMP:20260420T031413
CREATED:20241227T115108Z
LAST-MODIFIED:20241227T115108Z
UID:10009088-1735405200-1735412400@juventud.ayto-caceres.es
SUMMARY:Concierto "Supersónica"
DESCRIPTION:
URL:https://juventud.ayto-caceres.es/evento/concierto-supersonica-2/
LOCATION:El Corral de las Cigüeñas\, Cta. de Aldana\, 6\, Cáceres\, 10003\, España
CATEGORIES:Música
ATTACH;FMTTYPE=image/jpeg:https://juventud.ayto-caceres.es/wp-content/uploads/2024/12/Corral-1.jpg
END:VEVENT
BEGIN:VEVENT
DTSTART;TZID=Europe/Madrid:20241228T203000
DTEND;TZID=Europe/Madrid:20241228T220000
DTSTAMP:20260420T031413
CREATED:20241227T114551Z
LAST-MODIFIED:20241227T114551Z
UID:10009086-1735417800-1735423200@juventud.ayto-caceres.es
SUMMARY:Mayumaná Impulso
DESCRIPTION:
URL:https://juventud.ayto-caceres.es/evento/mayumana-impulso/
LOCATION:Gran Teatro Cáceres\, C. San Antón\, 10\, Cáceres\, Cáceres\, 10003\, España
CATEGORIES:Música
ATTACH;FMTTYPE=image/jpeg:https://juventud.ayto-caceres.es/wp-content/uploads/2024/12/Gran-Teatro1.jpg
END:VEVENT
BEGIN:VEVENT
DTSTART;TZID=Europe/Madrid:20241228T210000
DTEND;TZID=Europe/Madrid:20241228T223000
DTSTAMP:20260420T031413
CREATED:20241227T115558Z
LAST-MODIFIED:20241227T115558Z
UID:10009089-1735419600-1735425000@juventud.ayto-caceres.es
SUMMARY:Concierto "Sobrinos de los Coup"
DESCRIPTION:
URL:https://juventud.ayto-caceres.es/evento/concierto-sobrinos-de-los-coup/
LOCATION:Boogaloo Club\, Av. de Hernán Cortés\, 10\, Cáceres\, Cáceres\, 10004\, España
CATEGORIES:Música
ATTACH;FMTTYPE=image/jpeg:https://juventud.ayto-caceres.es/wp-content/uploads/2024/12/Boogaloo-5.jpg
END:VEVENT
BEGIN:VEVENT
DTSTART;TZID=Europe/Madrid:20241229T200000
DTEND;TZID=Europe/Madrid:20241229T223000
DTSTAMP:20260420T031413
CREATED:20241227T114736Z
LAST-MODIFIED:20241227T114736Z
UID:10009087-1735502400-1735511400@juventud.ayto-caceres.es
SUMMARY:Pinocho\, Sueña con ser
DESCRIPTION:
URL:https://juventud.ayto-caceres.es/evento/pinocho-suena-con-ser/
LOCATION:Cáceres
CATEGORIES:Cultura
ATTACH;FMTTYPE=image/jpeg:https://juventud.ayto-caceres.es/wp-content/uploads/2024/12/Gran-teatro2.jpg
END:VEVENT
END:VCALENDAR