BEGIN:VCALENDAR
VERSION:2.0
PRODID:-//Portal de Juventud - ECPv6.15.14//NONSGML v1.0//EN
CALSCALE:GREGORIAN
METHOD:PUBLISH
X-ORIGINAL-URL:https://juventud.ayto-caceres.es
X-WR-CALDESC:Eventos para Portal de Juventud
REFRESH-INTERVAL;VALUE=DURATION:PT1H
X-Robots-Tag:noindex
X-PUBLISHED-TTL:PT1H
BEGIN:VTIMEZONE
TZID:Europe/Madrid
BEGIN:DAYLIGHT
TZOFFSETFROM:+0100
TZOFFSETTO:+0200
TZNAME:CEST
DTSTART:20240331T010000
END:DAYLIGHT
BEGIN:STANDARD
TZOFFSETFROM:+0200
TZOFFSETTO:+0100
TZNAME:CET
DTSTART:20241027T010000
END:STANDARD
BEGIN:DAYLIGHT
TZOFFSETFROM:+0100
TZOFFSETTO:+0200
TZNAME:CEST
DTSTART:20250330T010000
END:DAYLIGHT
BEGIN:STANDARD
TZOFFSETFROM:+0200
TZOFFSETTO:+0100
TZNAME:CET
DTSTART:20251026T010000
END:STANDARD
BEGIN:DAYLIGHT
TZOFFSETFROM:+0100
TZOFFSETTO:+0200
TZNAME:CEST
DTSTART:20260329T010000
END:DAYLIGHT
BEGIN:STANDARD
TZOFFSETFROM:+0200
TZOFFSETTO:+0100
TZNAME:CET
DTSTART:20261025T010000
END:STANDARD
END:VTIMEZONE
BEGIN:VEVENT
DTSTART;TZID=Europe/Madrid:20250204T120000
DTEND;TZID=Europe/Madrid:20250227T170000
DTSTAMP:20260419T180527
CREATED:20250203T103642Z
LAST-MODIFIED:20250203T103642Z
UID:10009163-1738670400-1740675600@juventud.ayto-caceres.es
SUMMARY:Exposición "Jarramplas 2025"
DESCRIPTION:
URL:https://juventud.ayto-caceres.es/evento/exposicion-jarramplas-2025/
LOCATION:Palacio de la Isla\, Plaza de la Concepción\, 4\, Cáceres\, Cáceres\, 10003\, España
CATEGORIES:Exposiciones
ATTACH;FMTTYPE=image/jpeg:https://juventud.ayto-caceres.es/wp-content/uploads/2025/02/Jarramplas.jpg
END:VEVENT
BEGIN:VEVENT
DTSTART;TZID=Europe/Madrid:20250206T193000
DTEND;TZID=Europe/Madrid:20250306T170000
DTSTAMP:20260419T180527
CREATED:20250203T102841Z
LAST-MODIFIED:20250203T102841Z
UID:10009162-1738870200-1741280400@juventud.ayto-caceres.es
SUMMARY:Exposición "Consecuencias"
DESCRIPTION:
URL:https://juventud.ayto-caceres.es/evento/exposicion-consecuencias/
LOCATION:Sala de Arte El Brocense\, San Antón\, 17\, Cáceres\, Cáceres\, 10003\, España
CATEGORIES:Exposiciones
ATTACH;FMTTYPE=image/jpeg:https://juventud.ayto-caceres.es/wp-content/uploads/2025/02/Consecuencias.jpg
END:VEVENT
BEGIN:VEVENT
DTSTART;TZID=Europe/Madrid:20250207T190000
DTEND;TZID=Europe/Madrid:20250225T170000
DTSTAMP:20260419T180527
CREATED:20250203T103946Z
LAST-MODIFIED:20250203T103946Z
UID:10009164-1738954800-1740502800@juventud.ayto-caceres.es
SUMMARY:Exposición "Formas de Vida" de Léa Thieux
DESCRIPTION:Sala Principal
URL:https://juventud.ayto-caceres.es/evento/exposicion-formas-de-vida-de-lea-thieux/
LOCATION:Espacio Belleartes\, C. Donoso Cortés\, 6\, Cáceres\, Cáceres\, 10003\, España
CATEGORIES:Exposiciones
ATTACH;FMTTYPE=image/jpeg:https://juventud.ayto-caceres.es/wp-content/uploads/2025/02/cartel-LEA-THIEUX-WEB.jpg
END:VEVENT
BEGIN:VEVENT
DTSTART;TZID=Europe/Madrid:20250207T190000
DTEND;TZID=Europe/Madrid:20250301T170000
DTSTAMP:20260419T180527
CREATED:20250203T104708Z
LAST-MODIFIED:20250203T104708Z
UID:10009165-1738954800-1740848400@juventud.ayto-caceres.es
SUMMARY:Exposición "Espejismo" de Julián Canelo
DESCRIPTION:Sala B
URL:https://juventud.ayto-caceres.es/evento/exposicion-espejismo-de-julian-canelo/
LOCATION:Espacio Belleartes\, C. Donoso Cortés\, 6\, Cáceres\, Cáceres\, 10003\, España
CATEGORIES:Exposiciones
ATTACH;FMTTYPE=image/jpeg:https://juventud.ayto-caceres.es/wp-content/uploads/2025/02/cartel-Julian-Canelo-web-scaled.jpg
END:VEVENT
BEGIN:VEVENT
DTSTART;TZID=Europe/Madrid:20250213T203000
DTEND;TZID=Europe/Madrid:20250322T220000
DTSTAMP:20260419T180527
CREATED:20250210T085104Z
LAST-MODIFIED:20250210T085104Z
UID:10009183-1739478600-1742680800@juventud.ayto-caceres.es
SUMMARY:Exposición "El Poso del Tiempo" de Lorenzo L. Lumbreras
DESCRIPTION:Inauguración: 13 febrero 2025
URL:https://juventud.ayto-caceres.es/evento/exposicion-el-poso-del-tiempo-de-lorenzo-l-lumbreras/
LOCATION:Sala de Arte El Brocense\, San Antón\, 17\, Cáceres\, Cáceres\, 10003\, España
CATEGORIES:Exposiciones
ATTACH;FMTTYPE=image/jpeg:https://juventud.ayto-caceres.es/wp-content/uploads/2025/02/Brocense.jpg
END:VEVENT
BEGIN:VEVENT
DTSTART;TZID=Europe/Madrid:20250225T203000
DTEND;TZID=Europe/Madrid:20250225T220000
DTSTAMP:20260419T180527
CREATED:20250224T075441Z
LAST-MODIFIED:20250224T075441Z
UID:10009230-1740515400-1740520800@juventud.ayto-caceres.es
SUMMARY:Cine "Puntos suspensivos". Filmoteca
DESCRIPTION:Puntos suspensivos\nPaís: España. Año: 2024. Duración: 82’ \nCiclo: Una de las nuestras
URL:https://juventud.ayto-caceres.es/evento/cine-puntos-suspensivos-filmoteca/
LOCATION:Filmoteca Extremadura\, C. Rincón de la Monja\, 6\, Cáceres\, Cáceres\, 10003\, España
CATEGORIES:Cine
ATTACH;FMTTYPE=image/jpeg:https://juventud.ayto-caceres.es/wp-content/uploads/2025/02/puntos_suspensivos_200.jpg
END:VEVENT
BEGIN:VEVENT
DTSTART;TZID=Europe/Madrid:20250226T200000
DTEND;TZID=Europe/Madrid:20250226T200000
DTSTAMP:20260419T180527
CREATED:20250226T124956Z
LAST-MODIFIED:20250226T124956Z
UID:10009242-1740600000-1740600000@juventud.ayto-caceres.es
SUMMARY:IX Encuentro Social Swing Out
DESCRIPTION:
URL:https://juventud.ayto-caceres.es/evento/ix-encuentro-social-swing-out/
LOCATION:Boogaloo Club\, Av. de Hernán Cortés\, 10\, Cáceres\, Cáceres\, 10004\, España
CATEGORIES:Música
ATTACH;FMTTYPE=image/jpeg:https://juventud.ayto-caceres.es/wp-content/uploads/2025/02/Boogaloo.jpeg
END:VEVENT
BEGIN:VEVENT
DTSTART;TZID=Europe/Madrid:20250227T193000
DTEND;TZID=Europe/Madrid:20250227T203000
DTSTAMP:20260419T180527
CREATED:20250224T131147Z
LAST-MODIFIED:20250224T131147Z
UID:10009233-1740684600-1740688200@juventud.ayto-caceres.es
SUMMARY:Presentación del poemario "Crisálida de mariposas acuchilladas"
DESCRIPTION:
URL:https://juventud.ayto-caceres.es/evento/presentacion-del-poemario-crisalida-de-mariposas-acuchilladas/
LOCATION:Ateneo de Cáceres\, Calle Gral. Ezponda\, 9\, Cáceres\, Cáceres\, 10003\, España
CATEGORIES:Cultura
ATTACH;FMTTYPE=image/jpeg:https://juventud.ayto-caceres.es/wp-content/uploads/2025/02/Ateneo-2.jpg
END:VEVENT
BEGIN:VEVENT
DTSTART;TZID=Europe/Madrid:20250227T203000
DTEND;TZID=Europe/Madrid:20250227T220000
DTSTAMP:20260419T180527
CREATED:20250224T075714Z
LAST-MODIFIED:20250224T075714Z
UID:10009231-1740688200-1740693600@juventud.ayto-caceres.es
SUMMARY:Cine "Volveréis". Filmoteca
DESCRIPTION:País: España. Año: 2024. Duración: 114’ \nCiclo: Camino a los Goya
URL:https://juventud.ayto-caceres.es/evento/cine-volvereis-filmoteca/
LOCATION:Filmoteca Extremadura\, C. Rincón de la Monja\, 6\, Cáceres\, Cáceres\, 10003\, España
CATEGORIES:Cine
ATTACH;FMTTYPE=image/jpeg:https://juventud.ayto-caceres.es/wp-content/uploads/2025/02/volvereis_200.jpg
END:VEVENT
BEGIN:VEVENT
DTSTART;TZID=Europe/Madrid:20250227T220000
DTEND;TZID=Europe/Madrid:20250227T233000
DTSTAMP:20260419T180527
CREATED:20250226T092546Z
LAST-MODIFIED:20250226T092546Z
UID:10009241-1740693600-1740699000@juventud.ayto-caceres.es
SUMMARY:Micro abierto
DESCRIPTION:
URL:https://juventud.ayto-caceres.es/evento/micro-abierto/
LOCATION:Boogaloo Club\, Av. de Hernán Cortés\, 10\, Cáceres\, Cáceres\, 10004\, España
CATEGORIES:Música
ATTACH;FMTTYPE=image/jpeg:https://juventud.ayto-caceres.es/wp-content/uploads/2025/02/Boogaloo-4.jpg
END:VEVENT
BEGIN:VEVENT
DTSTART;TZID=Europe/Madrid:20250228T170000
DTEND;TZID=Europe/Madrid:20250228T220000
DTSTAMP:20260419T180527
CREATED:20250226T092158Z
LAST-MODIFIED:20250226T092158Z
UID:10009240-1740762000-1740780000@juventud.ayto-caceres.es
SUMMARY:El Museo Helga de Alvear celebra su IV Aniversario
DESCRIPTION:Con el objetivo de seguir celebrando la vida y el legado de Helga de Alvear su museo en Cáceres mantiene y amplía la programación especial con motivo de su IV Aniversario con más de 40 horas de actividades gratuitas.
URL:https://juventud.ayto-caceres.es/evento/el-museo-helga-de-alvear-celebra-su-iv-aniversario/
LOCATION:Fundación Helga de Alvear\, C/ Pizarro\, 8\, 10003\, Cáceres\, 10003\, España
CATEGORIES:Cultura
ATTACH;FMTTYPE=image/jpeg:https://juventud.ayto-caceres.es/wp-content/uploads/2025/02/Helga.jpg
END:VEVENT
BEGIN:VEVENT
DTSTART;TZID=Europe/Madrid:20250228T173000
DTEND;TZID=Europe/Madrid:20250228T183000
DTSTAMP:20260419T180527
CREATED:20250227T081145Z
LAST-MODIFIED:20250227T081145Z
UID:10009248-1740763800-1740767400@juventud.ayto-caceres.es
SUMMARY:Presentación del libro “Un año descubriendo América: 365 puntos que no sabes si sabías sobre la conquista”
DESCRIPTION:El palacio de la Isla de Cáceres acoge la presentación del libro “Un año descubriendo América: 365 puntos que no sabes si sabías sobre la conquista” de Felipe Grande\, este viernes 28 de febrero a las 17:30 horas.
URL:https://juventud.ayto-caceres.es/evento/presentacion-del-libro-un-ano-descubriendo-america-365-puntos-que-no-sabes-si-sabias-sobre-la-conquista/
LOCATION:Palacio Golfines de Abajo\, Pl. Santa María\, Cáceres\, Cáceres\, 10003\, España
CATEGORIES:Cultura
ATTACH;FMTTYPE=image/jpeg:https://juventud.ayto-caceres.es/wp-content/uploads/2025/02/Isla.jpg
END:VEVENT
BEGIN:VEVENT
DTSTART;TZID=Europe/Madrid:20250228T193000
DTEND;TZID=Europe/Madrid:20250228T203000
DTSTAMP:20260419T180527
CREATED:20250226T085706Z
LAST-MODIFIED:20250226T085706Z
UID:10009237-1740771000-1740774600@juventud.ayto-caceres.es
SUMMARY:Presentación del libro: Cuentos de Vapor y Niebla
DESCRIPTION:
URL:https://juventud.ayto-caceres.es/evento/presentacion-del-libro-cuentos-de-vapor-y-niebla/
LOCATION:Ateneo de Cáceres\, Calle Gral. Ezponda\, 9\, Cáceres\, Cáceres\, 10003\, España
CATEGORIES:Cultura
ATTACH;FMTTYPE=image/jpeg:https://juventud.ayto-caceres.es/wp-content/uploads/2025/02/Ateneo-3.jpg
END:VEVENT
BEGIN:VEVENT
DTSTART;TZID=Europe/Madrid:20250228T193000
DTEND;TZID=Europe/Madrid:20250228T210000
DTSTAMP:20260419T180527
CREATED:20250226T130502Z
LAST-MODIFIED:20250226T130502Z
UID:10009246-1740771000-1740776400@juventud.ayto-caceres.es
SUMMARY:Presentación del libro "Y se quedarán los pájaros cantando"
DESCRIPTION:
URL:https://juventud.ayto-caceres.es/evento/presentacion-del-libro-y-se-quedaran-los-pajaros-cantando/
LOCATION:Biblioteca Pública de Cáceres\, C. Alfonso IX\, 26\, Cáceres\, Cáceres\, 10004\, España
CATEGORIES:Cultura
ATTACH;FMTTYPE=image/jpeg:https://juventud.ayto-caceres.es/wp-content/uploads/2025/02/Biblioteca.jpg
END:VEVENT
BEGIN:VEVENT
DTSTART;TZID=Europe/Madrid:20250228T200000
DTEND;TZID=Europe/Madrid:20250228T213000
DTSTAMP:20260419T180527
CREATED:20250224T132631Z
LAST-MODIFIED:20250224T132631Z
UID:10009234-1740772800-1740778200@juventud.ayto-caceres.es
SUMMARY:Teatro "Wilbur"
DESCRIPTION:
URL:https://juventud.ayto-caceres.es/evento/teatro-wilbur/
LOCATION:Gran Teatro Cáceres\, C. San Antón\, 10\, Cáceres\, Cáceres\, 10003\, España
CATEGORIES:Cultura
ATTACH;FMTTYPE=image/jpeg:https://juventud.ayto-caceres.es/wp-content/uploads/2025/02/Gran-Teatro-5.jpg
END:VEVENT
BEGIN:VEVENT
DTSTART;TZID=Europe/Madrid:20250228T203000
DTEND;TZID=Europe/Madrid:20250228T213000
DTSTAMP:20260419T180527
CREATED:20250225T085212Z
LAST-MODIFIED:20250225T132622Z
UID:10009236-1740774600-1740778200@juventud.ayto-caceres.es
SUMMARY:Danza Teatro. Programa doble en La Nave del Duende
DESCRIPTION:Programa doble. Danza – Teatro / Danza \n«No necesito un nombre para ser mascota» \n«Todo esto para nada»
URL:https://juventud.ayto-caceres.es/evento/danza-teatro-programa-doble-en-la-nave-del-duende/
LOCATION:La Nave del Duende\, Polígono la Cañada 1\, Casar de Cáceres\, 10190\, España
CATEGORIES:Cultura
ATTACH;FMTTYPE=image/jpeg:https://juventud.ayto-caceres.es/wp-content/uploads/2025/02/La-Nave-2.jpg
END:VEVENT
BEGIN:VEVENT
DTSTART;TZID=Europe/Madrid:20250228T203000
DTEND;TZID=Europe/Madrid:20250228T220000
DTSTAMP:20260419T180527
CREATED:20250224T075929Z
LAST-MODIFIED:20250224T075929Z
UID:10009232-1740774600-1740780000@juventud.ayto-caceres.es
SUMMARY:Cine "¿Es el enemigo?". Filmoteca
DESCRIPTION:¿Es el enemigo? La película de Gila\nPaís: España. Año: 2024. Duración: 100’ \nCiclo: Camino a los Goya
URL:https://juventud.ayto-caceres.es/evento/cine-es-el-enemigo-filmoteca/
LOCATION:Filmoteca Extremadura\, C. Rincón de la Monja\, 6\, Cáceres\, Cáceres\, 10003\, España
CATEGORIES:Cine
ATTACH;FMTTYPE=image/jpeg:https://juventud.ayto-caceres.es/wp-content/uploads/2025/02/es_el_enemigo_200.jpg
END:VEVENT
BEGIN:VEVENT
DTSTART;TZID=Europe/Madrid:20250228T210000
DTEND;TZID=Europe/Madrid:20250228T233000
DTSTAMP:20260419T180527
CREATED:20250226T091218Z
LAST-MODIFIED:20250226T091218Z
UID:10009239-1740776400-1740785400@juventud.ayto-caceres.es
SUMMARY:Rock con Pintura en Vivo
DESCRIPTION:Pintura en Vivo de Vicente Cancho con la colaboracion musical de Dj Pedro Gonzalez
URL:https://juventud.ayto-caceres.es/evento/rock-con-pintura-en-vivo/
LOCATION:Bar «Dolores dame Colores»\, C. Donoso Cortés\, 8\, A\, Cáceres\, Cáceres\, 10003\, España
CATEGORIES:Otras
ATTACH;FMTTYPE=image/jpeg:https://juventud.ayto-caceres.es/wp-content/uploads/2025/02/Dolores-1.jpg
END:VEVENT
BEGIN:VEVENT
DTSTART;TZID=Europe/Madrid:20250228T210000
DTEND;TZID=Europe/Madrid:20250228T233000
DTSTAMP:20260419T180527
CREATED:20250226T125529Z
LAST-MODIFIED:20250226T125529Z
UID:10009243-1740776400-1740785400@juventud.ayto-caceres.es
SUMMARY:Concierto "Los Eslim"
DESCRIPTION:
URL:https://juventud.ayto-caceres.es/evento/concierto-los-eslim/
LOCATION:Boogaloo Club\, Av. de Hernán Cortés\, 10\, Cáceres\, Cáceres\, 10004\, España
CATEGORIES:Música
ATTACH;FMTTYPE=image/jpeg:https://juventud.ayto-caceres.es/wp-content/uploads/2025/02/Boogaloo-1.jpeg
END:VEVENT
BEGIN:VEVENT
DTSTART;TZID=Europe/Madrid:20250301T173000
DTEND;TZID=Europe/Madrid:20250301T190000
DTSTAMP:20260419T180527
CREATED:20250226T130823Z
LAST-MODIFIED:20250226T130823Z
UID:10009247-1740850200-1740855600@juventud.ayto-caceres.es
SUMMARY:Concierto "Mcnamara"
DESCRIPTION:
URL:https://juventud.ayto-caceres.es/evento/concierto-mcnamara/
LOCATION:El Corral de las Cigüeñas\, Cta. de Aldana\, 6\, Cáceres\, 10003\, España
CATEGORIES:Música
ATTACH;FMTTYPE=image/png:https://juventud.ayto-caceres.es/wp-content/uploads/2025/02/Corral.png
END:VEVENT
BEGIN:VEVENT
DTSTART;TZID=Europe/Madrid:20250301T190000
DTEND;TZID=Europe/Madrid:20250316T233000
DTSTAMP:20260419T180527
CREATED:20250226T090100Z
LAST-MODIFIED:20250226T090100Z
UID:10009238-1740855600-1742167800@juventud.ayto-caceres.es
SUMMARY:Exposición Carteles 32 Festival de Cine Español de Cáceres
DESCRIPTION:Con motivo de la celebración de la 32 edición del Festival de Cine Español de Cáceres\, la Fundación ReBross y Belleartes organizan una EXPOSICIÓN que pretende ser un homenaje al Festival más longevo de España dedicado exclusivamente a promocionar\, difundir y premiar el cine español. Desde 1994 la Fundación ReBross ha conseguido de su Festival un valioso medio de promoción del Cine Español en Extremadura con una importante proyección nacional\, siendo prueba de ello el reconocimiento que recibe anualmente de los profesionales de la cinematografía que visitan nuestra comunidad y la distinción en el año 2008 de la Academia de las Artes y las Ciencias Cinematográficas de España al concedernos el Premio González Sinde por ser el único Festival en España que vincula el cine español con la solidaridad. \nLa exposición está vinculada al concurso de carteles online para jóvenes que convoca el Festival de Cine Español de Cáceres\, para elegir entre todos los participantes la imagen de la 32 edición.
URL:https://juventud.ayto-caceres.es/evento/exposicion-carteles-32-festival-de-cine-espanol-de-caceres/
LOCATION:Espacio Belleartes\, C. Donoso Cortés\, 6\, Cáceres\, Cáceres\, 10003\, España
CATEGORIES:Cultura
ATTACH;FMTTYPE=image/jpeg:https://juventud.ayto-caceres.es/wp-content/uploads/2025/02/cartel-expo-vo-25-web.jpg
END:VEVENT
BEGIN:VEVENT
DTSTART;TZID=Europe/Madrid:20250301T200000
DTEND;TZID=Europe/Madrid:20250301T213000
DTSTAMP:20260419T180527
CREATED:20250224T133101Z
LAST-MODIFIED:20250224T133101Z
UID:10009235-1740859200-1740864600@juventud.ayto-caceres.es
SUMMARY:"War Baby" de Yllana
DESCRIPTION:
URL:https://juventud.ayto-caceres.es/evento/war-baby-de-yllana/
LOCATION:Gran Teatro Cáceres\, C. San Antón\, 10\, Cáceres\, Cáceres\, 10003\, España
CATEGORIES:Cultura
ATTACH;FMTTYPE=image/jpeg:https://juventud.ayto-caceres.es/wp-content/uploads/2025/02/Gran-Teatro-6.jpg
END:VEVENT
BEGIN:VEVENT
DTSTART;TZID=Europe/Madrid:20250301T210000
DTEND;TZID=Europe/Madrid:20250301T233000
DTSTAMP:20260419T180527
CREATED:20250226T125806Z
LAST-MODIFIED:20250226T125806Z
UID:10009244-1740862800-1740871800@juventud.ayto-caceres.es
SUMMARY:Concierto "Desterraos"
DESCRIPTION:
URL:https://juventud.ayto-caceres.es/evento/concierto-desterraos/
LOCATION:Boogaloo Club\, Av. de Hernán Cortés\, 10\, Cáceres\, Cáceres\, 10004\, España
CATEGORIES:Música
ATTACH;FMTTYPE=image/jpeg:https://juventud.ayto-caceres.es/wp-content/uploads/2025/02/Boogaloo-2.jpeg
END:VEVENT
BEGIN:VEVENT
DTSTART;TZID=Europe/Madrid:20250302T190000
DTEND;TZID=Europe/Madrid:20250302T220000
DTSTAMP:20260419T180527
CREATED:20250226T130122Z
LAST-MODIFIED:20250226T130122Z
UID:10009245-1740942000-1740952800@juventud.ayto-caceres.es
SUMMARY:Sherezade. Espacio Cultural Abierto
DESCRIPTION:
URL:https://juventud.ayto-caceres.es/evento/sherezade-espacio-cultural-abierto/
LOCATION:Boogaloo Club\, Av. de Hernán Cortés\, 10\, Cáceres\, Cáceres\, 10004\, España
CATEGORIES:Cultura
ATTACH;FMTTYPE=image/jpeg:https://juventud.ayto-caceres.es/wp-content/uploads/2025/02/Boogaloo-3.jpeg
END:VEVENT
END:VCALENDAR