BEGIN:VCALENDAR
VERSION:2.0
PRODID:-//Portal de Juventud - ECPv6.15.14//NONSGML v1.0//EN
CALSCALE:GREGORIAN
METHOD:PUBLISH
X-WR-CALNAME:Portal de Juventud
X-ORIGINAL-URL:https://juventud.ayto-caceres.es
X-WR-CALDESC:Eventos para Portal de Juventud
REFRESH-INTERVAL;VALUE=DURATION:PT1H
X-Robots-Tag:noindex
X-PUBLISHED-TTL:PT1H
BEGIN:VTIMEZONE
TZID:Europe/Madrid
BEGIN:DAYLIGHT
TZOFFSETFROM:+0100
TZOFFSETTO:+0200
TZNAME:CEST
DTSTART:20230326T010000
END:DAYLIGHT
BEGIN:STANDARD
TZOFFSETFROM:+0200
TZOFFSETTO:+0100
TZNAME:CET
DTSTART:20231029T010000
END:STANDARD
BEGIN:DAYLIGHT
TZOFFSETFROM:+0100
TZOFFSETTO:+0200
TZNAME:CEST
DTSTART:20240331T010000
END:DAYLIGHT
BEGIN:STANDARD
TZOFFSETFROM:+0200
TZOFFSETTO:+0100
TZNAME:CET
DTSTART:20241027T010000
END:STANDARD
BEGIN:DAYLIGHT
TZOFFSETFROM:+0100
TZOFFSETTO:+0200
TZNAME:CEST
DTSTART:20250330T010000
END:DAYLIGHT
BEGIN:STANDARD
TZOFFSETFROM:+0200
TZOFFSETTO:+0100
TZNAME:CET
DTSTART:20251026T010000
END:STANDARD
BEGIN:DAYLIGHT
TZOFFSETFROM:+0100
TZOFFSETTO:+0200
TZNAME:CEST
DTSTART:20260329T010000
END:DAYLIGHT
BEGIN:STANDARD
TZOFFSETFROM:+0200
TZOFFSETTO:+0100
TZNAME:CET
DTSTART:20261025T010000
END:STANDARD
END:VTIMEZONE
BEGIN:VEVENT
DTSTART;TZID=Europe/Madrid:20251120T193000
DTEND;TZID=Europe/Madrid:20251120T213000
DTSTAMP:20260421T115752
CREATED:20251114T134058Z
LAST-MODIFIED:20251114T134058Z
UID:10011518-1763667000-1763674200@juventud.ayto-caceres.es
SUMMARY:Cine "Justicia para Sohee"
DESCRIPTION:Cáceres\nFecha: Jueves 20 de noviembre\nHorario: 19:30 horas\n\nSinopsis: Kim Sohee\, una estudiante\, entra en un call center de un importante operador de internet para sus prácticas de fin de estudios. En pocos meses\, su ánimo decae a causa de unas condiciones de trabajo degradantes y unos objetivos cada vez más difíciles que la llevan hasta la muerte. Una serie de sucesos sospechosos en la empresa llaman la atención de las autoridades locales. La detective Yoo-jin\, encargada de la investigación\, queda profundamente conmocionada por lo que descubre. Sola\, cuestiona a todo el sistema. \n 
URL:https://juventud.ayto-caceres.es/evento/cine-justicia-para-sohee/
LOCATION:Filmoteca Extremadura\, C. Rincón de la Monja\, 6\, Cáceres\, Cáceres\, 10003\, España
CATEGORIES:Cine
ATTACH;FMTTYPE=image/jpeg:https://juventud.ayto-caceres.es/wp-content/uploads/2025/11/justiciaparasohee_200.jpg
ORGANIZER;CN="Filmoteca Extremadura":MAILTO:filmoteca@juntaex.es
END:VEVENT
BEGIN:VEVENT
DTSTART;TZID=Europe/Madrid:20251118T193000
DTEND;TZID=Europe/Madrid:20251118T223000
DTSTAMP:20260421T115752
CREATED:20251114T132922Z
LAST-MODIFIED:20251114T133249Z
UID:10011517-1763494200-1763505000@juventud.ayto-caceres.es
SUMMARY:Cine "Festival Claqueta Emérita VIII"
DESCRIPTION:Claqueta Emérita es un festival de cortometrajes con el público joven como protagonista que lleva realizándose en Mérida durante 8 ediciones\, Este año acercamos este Festival a la Filmoteca de Extremadura donde se proyectarán una selección de los mejores cortometrajes presentados en sus 8 ediciones. Los cortometrajes estarna presentados por la organización del festival. \nClaqueta Emérita es un proyecto financiado por la Consejería de Cultura\, Turismo\, Jóvenes y Deportes de la Junta de Extremadura. \n\nCáceres\nMartes 18 de noviembre\nHorario: 19:30 horas\n\nPelículas del ciclo:\nEl lado más bestia de la vida \nEspaña\, 2025 | 14 min 32 s \nDirección: José Antonio Campos Aguilera \nCiento volando\nEspaña 2024 17 min 55s \nDirección: A. Lucero \nYungay\nEspaña 07min 35s \nDirección: Marisa Bedoya \nÁngulo muerto\nEspaña 2024 14min 58s \nDirección: Cristian Beteta \nEl desgüace\nEspaña 2024 01 min 00s \nDirección: Cachinus de Cine \n¿Cómo que abuela?\n15 min 56s \nDirección: Xabi Vitoria \n 
URL:https://juventud.ayto-caceres.es/evento/cine-festival-claqueta-emerita-viii/
LOCATION:Filmoteca Extremadura\, C. Rincón de la Monja\, 6\, Cáceres\, Cáceres\, 10003\, España
CATEGORIES:Cine
ATTACH;FMTTYPE=image/png:https://juventud.ayto-caceres.es/wp-content/uploads/2025/11/Captura-2.png
ORGANIZER;CN="Filmoteca Extremadura":MAILTO:filmoteca@juntaex.es
END:VEVENT
BEGIN:VEVENT
DTSTART;TZID=Europe/Madrid:20251114T193000
DTEND;TZID=Europe/Madrid:20251114T213000
DTSTAMP:20260421T115752
CREATED:20251114T131639Z
LAST-MODIFIED:20251114T131639Z
UID:10011516-1763148600-1763155800@juventud.ayto-caceres.es
SUMMARY:Cine "Maspalomas"
DESCRIPTION:Sinopsis: Tras romper con su pareja\, Vicente\, de 76 años\, lleva la vida que le gusta en Maspalomas; su día a día lo pasa tumbado al sol\, de fiesta y buscando el placer. Un accidente inesperado le obliga a regresar a San Sebastián y a reencontrarse con su hija\, a quien abandonó años atrás. Vicente tendrá que vivir en una residencia donde se verá empujado a volver al armario y a ocultar una parte de sí mismo que creía resuelta. En este nuevo entorno\, Vicente deberá preguntarse si aún está a tiempo de reconciliarse con los demás… y consigo mismo. \nCáceres – \nFecha: Viernes 14 de noviembre \nHora: 19:30 horas \nDuración: 115
URL:https://juventud.ayto-caceres.es/evento/cine-maspalomas/
LOCATION:Filmoteca Extremadura\, C. Rincón de la Monja\, 6\, Cáceres\, Cáceres\, 10003\, España
CATEGORIES:Cine
ATTACH;FMTTYPE=image/jpeg:https://juventud.ayto-caceres.es/wp-content/uploads/2025/11/maspalomas_200.jpg
ORGANIZER;CN="Filmoteca Extremadura":MAILTO:filmoteca@juntaex.es
END:VEVENT
BEGIN:VEVENT
DTSTART;TZID=Europe/Madrid:20251014T203000
DTEND;TZID=Europe/Madrid:20251014T223000
DTSTAMP:20260421T115752
CREATED:20251007T095129Z
LAST-MODIFIED:20251007T095129Z
UID:10011392-1760473800-1760481000@juventud.ayto-caceres.es
SUMMARY:Película "La infancia desnuda"
DESCRIPTION:Cáceres – \nFecha: Martes 14 de octubre \nHorario: 20:30 horas \nNO RECOMENDADA PARA MENORES DE DOCE AÑOS \nSinopsis: Después de haber sido abandonado por sus padres\, François\, un niño de nueve años\, es acogido por una familia obrera. Pero se dan cuenta de que François tiene graves problemas de comportamiento y pronto se convierte en una carga para ellos. Los servicios sociales le buscan una nueva familia de acogida\, una vieja pareja que cuida de otro niño abandonado.
URL:https://juventud.ayto-caceres.es/evento/pelicula-la-infancia-desnuda/
LOCATION:Filmoteca Extremadura\, C. Rincón de la Monja\, 6\, Cáceres\, Cáceres\, 10003\, España
CATEGORIES:Cine
ATTACH;FMTTYPE=image/jpeg:https://juventud.ayto-caceres.es/wp-content/uploads/2025/10/la-infancia-desnuda.jpg
ORGANIZER;CN="Filmoteca Extremadura":MAILTO:filmoteca@juntaex.es
END:VEVENT
BEGIN:VEVENT
DTSTART;TZID=Europe/Madrid:20251010T203000
DTEND;TZID=Europe/Madrid:20251010T223000
DTSTAMP:20260421T115752
CREATED:20251007T094419Z
LAST-MODIFIED:20251007T094419Z
UID:10011391-1760128200-1760135400@juventud.ayto-caceres.es
SUMMARY:Película "La niña de la cabra"
DESCRIPTION:Cáceres – \nFecha: Viernes 10 de octubre \nHorario: 20:30 horas \nNO RECOMENDADA PARA MENORES DE SIETE AÑOS y distintivo ESPECIALMENTE RECOMENDADA PARA LA INFANCIA  \nSinopsis: Madrid\, 1988. Elena\, una niña de ocho años\, afronta la reciente pérdida de su abuela mientras se prepara para hacer la Primera Comunión. Su amistad con Serezade\, una niña gitana que no se separa de su cabra\, le lleva a plantearse si realmente el mundo es tal y como se lo han contado.
URL:https://juventud.ayto-caceres.es/evento/pelicula-la-nina-de-la-cabra/
LOCATION:Filmoteca Extremadura\, C. Rincón de la Monja\, 6\, Cáceres\, Cáceres\, 10003\, España
ATTACH;FMTTYPE=image/jpeg:https://juventud.ayto-caceres.es/wp-content/uploads/2025/10/la_nina_de_la_cabra-663032284-large.jpg
ORGANIZER;CN="Filmoteca Extremadura":MAILTO:filmoteca@juntaex.es
END:VEVENT
BEGIN:VEVENT
DTSTART;TZID=Europe/Madrid:20251009T203000
DTEND;TZID=Europe/Madrid:20251009T223000
DTSTAMP:20260421T115752
CREATED:20251007T091846Z
LAST-MODIFIED:20251007T091846Z
UID:10011390-1760041800-1760049000@juventud.ayto-caceres.es
SUMMARY:Película "La fiesta del chivo"
DESCRIPTION:Cáceres – \nFecha: Jueves 9 de octubre \nHorario: 20:30 horas \nNO RECOMENDADA PARA MENORES DE DIECIOCHO AÑOS \nSinopsis: Santo Domingo (República Dominicana)\, año 1992. Urania Cabral regresa a su ciudad natal. Apenas reconoce al viejo calvo y desdentado que yace en su lecho\, mudo e inmóvil\, casi inerte. Es su padre\, Agustín Cabral\, alias «Cerebrito»\, Presidente del Senado y mano derecha del dictador Rafael Trujillo durante muchos\, muchos años. Hasta que cayó en desgracia. Pero de aquello ha pasado mucho tiempo.
URL:https://juventud.ayto-caceres.es/evento/pelicula-la-fiesta-del-chivo/
LOCATION:Filmoteca Extremadura\, C. Rincón de la Monja\, 6\, Cáceres\, Cáceres\, 10003\, España
CATEGORIES:Cine
ORGANIZER;CN="Filmoteca Extremadura":MAILTO:filmoteca@juntaex.es
END:VEVENT
BEGIN:VEVENT
DTSTART;TZID=Europe/Madrid:20251007T203000
DTEND;TZID=Europe/Madrid:20251007T223000
DTSTAMP:20260421T115752
CREATED:20251007T080502Z
LAST-MODIFIED:20251007T080502Z
UID:10011389-1759869000-1759876200@juventud.ayto-caceres.es
SUMMARY:Película "El inquilino"
DESCRIPTION:Cáceres – \nMartes 7 de octubre \nHorario: 20:30 horas \nSinopsis: Evaristo y Marta son un matrimonio con cuatro hijos a los que quieren desahuciar de su piso\, por lo que se ven obligados a empezar a buscar incansablemente otro sitio donde vivir. A pesar de su incesante búsqueda Evaristo no logra encontrar una vivienda para su familia que se ajuste al poco dinero que gana. Entonces decide probar suerte pidiendo ayuda en vano a todo el que piensa que le puede echar una mano: a una agencia inmobiliaria\, al promotor que ha adquirido el bloque e incluso a un banquero. \n\n 
URL:https://juventud.ayto-caceres.es/evento/pelicula-el-inquilino/
LOCATION:Filmoteca Extremadura\, C. Rincón de la Monja\, 6\, Cáceres\, Cáceres\, 10003\, España
CATEGORIES:Cine
ATTACH;FMTTYPE=image/jpeg:https://juventud.ayto-caceres.es/wp-content/uploads/2025/10/el_inquilino-708227972-large.jpg
ORGANIZER;CN="Filmoteca Extremadura":MAILTO:filmoteca@juntaex.es
END:VEVENT
BEGIN:VEVENT
DTSTART;TZID=Europe/Madrid:20250612T203000
DTEND;TZID=Europe/Madrid:20250612T223000
DTSTAMP:20260421T115752
CREATED:20250605T202534Z
LAST-MODIFIED:20250605T202534Z
UID:10009522-1749760200-1749767400@juventud.ayto-caceres.es
SUMMARY:Película "Las vidas de Sing Sing"
DESCRIPTION:Sinopsis: Un pequeño grupo de presos encarcelados en el Centro Correccional Sing Sing\, una de las prisiones de máxima seguridad más famosas del mundo\, se propone montar su propia obra teatral como parte de un taller de teatro. A través de las artes escénicas\, estos hombres consiguen ver el mundo como un lugar por el que luchar. \nV.O.  inglés con subtítulos en castellano \nNO RECOMENDADA PARA MENORES DE DOCE AÑOS \nCáceres – Jueves 12 de junio\, 20:30 horas
URL:https://juventud.ayto-caceres.es/evento/pelicula-las-vidas-de-sing-sing/
LOCATION:Filmoteca Extremadura\, C. Rincón de la Monja\, 6\, Cáceres\, Cáceres\, 10003\, España
CATEGORIES:Cine
ATTACH;FMTTYPE=image/jpeg:https://juventud.ayto-caceres.es/wp-content/uploads/2025/06/sing_sing_200.jpg
ORGANIZER;CN="Filmoteca Extremadura":MAILTO:filmoteca@juntaex.es
END:VEVENT
BEGIN:VEVENT
DTSTART;TZID=Europe/Madrid:20250610T203000
DTEND;TZID=Europe/Madrid:20250610T223000
DTSTAMP:20260421T115752
CREATED:20250605T202033Z
LAST-MODIFIED:20250605T202033Z
UID:10009521-1749587400-1749594600@juventud.ayto-caceres.es
SUMMARY:Película "Grand tour"
DESCRIPTION:Sinopsis: Rangún\, Birmania\, 1917. Edward\, funcionario del Imperio Británico\, huye de su prometida Molly el día que ésta llega para casarse. Durante su viaje\, sin embargo\, el pánico da paso a la melancolía. Contemplando el vacío de su existencia\, el cobarde Edward se pregunta qué habrá sido de Molly… Decidida a casarse y divertida por la jugada de Edward\, Molly le sigue la pista a través de Asia. \nV.O.  portugués y otros con subtítulos en castellano \nNO RECOMENDADA PARA MENORES DE DOCE AÑOS \nCáceres – Martes 10 de junio\, 20:30 horas
URL:https://juventud.ayto-caceres.es/evento/pelicula-grand-tour/
LOCATION:Filmoteca Extremadura\, C. Rincón de la Monja\, 6\, Cáceres\, Cáceres\, 10003\, España
CATEGORIES:Cine
ATTACH;FMTTYPE=image/jpeg:https://juventud.ayto-caceres.es/wp-content/uploads/2025/06/grand_tour_200.jpg
ORGANIZER;CN="Filmoteca Extremadura":MAILTO:filmoteca@juntaex.es
END:VEVENT
BEGIN:VEVENT
DTSTART;TZID=Europe/Madrid:20250606T203000
DTEND;TZID=Europe/Madrid:20250606T223000
DTSTAMP:20260421T115752
CREATED:20250605T200934Z
LAST-MODIFIED:20250605T200934Z
UID:10009520-1749241800-1749249000@juventud.ayto-caceres.es
SUMMARY:Película "El baño del diablo"
DESCRIPTION:Sinopsis: Austria\, siglo XVIII. Pueblos rodeados de profundos bosques. En lo alto de una colina\, una mujer ha sido ejecutada y expuesta a la vista de todos por matar a un bebé. Como prueba. Como advertencia. ¿Como un presagio? Agnes\, profundamente religiosa y muy sensible\, se casa con su amado Wolf y se prepara cándidamente para una vida de esposa. Poco después\, su cabeza y su corazón empiezan a sentirse pesados. Día tras día\, se ve cada vez más atrapada en un camino turbio y solitario que la conducen a los malos pensamientos. Quizá… no sólo pensamientos. \nCáceres – Viernes 6 de junio\, 20:30 horas \nV.O.  alemán con subtítulos en castellano \nNO RECOMENDADA PARA MENORES DE DIECIOCHO AÑOS \n 
URL:https://juventud.ayto-caceres.es/evento/pelicula-el-bano-del-diablo/
CATEGORIES:Cine
ATTACH;FMTTYPE=image/jpeg:https://juventud.ayto-caceres.es/wp-content/uploads/2025/06/elbanodeldiablo_200.jpg
ORGANIZER;CN="Filmoteca Extremadura":MAILTO:filmoteca@juntaex.es
END:VEVENT
BEGIN:VEVENT
DTSTART;TZID=Europe/Madrid:20250425T200000
DTEND;TZID=Europe/Madrid:20250425T223000
DTSTAMP:20260421T115752
CREATED:20250425T084517Z
LAST-MODIFIED:20250425T084517Z
UID:10009400-1745611200-1745620200@juventud.ayto-caceres.es
SUMMARY:Cortometraje "Casa diversa"
DESCRIPTION:Sinopsis: En Paraguay\, un país donde la homofobia\, la violencia y la discriminación contra las personas trans son desgraciadamente demasiado comunes\, se encuentra un refugio único: Casa Diversa. Casa Diversa es símbolo de esperanza y dignidad de todas las personas\, sin importar su identidad de género. \nEl cortometraje «Casa Diversa» tiene premios a nivel nacional (Lesgaycinemad\, Festival Internacional de Cine de Madrid) e internacional (Festival Internacional de Cine -LesBiGayTrans- Paraguay 2024. \n\nDía: Viernes 25 de abril\nHorario: 20:30 horas\nDuración: 28 minutos\n\n+ info: http://filmotecaextremadura.juntaex.es/web/1204
URL:https://juventud.ayto-caceres.es/evento/cortometraje-casa-diversa/
LOCATION:Filmoteca Extremadura\, C. Rincón de la Monja\, 6\, Cáceres\, Cáceres\, 10003\, España
CATEGORIES:Cine
ATTACH;FMTTYPE=image/jpeg:https://juventud.ayto-caceres.es/wp-content/uploads/2025/04/casadiversaCONFIRMAR_200.jpg
ORGANIZER;CN="Filmoteca Extremadura":MAILTO:filmoteca@juntaex.es
END:VEVENT
BEGIN:VEVENT
DTSTART;TZID=Europe/Madrid:20250404T200000
DTEND;TZID=Europe/Madrid:20250404T213000
DTSTAMP:20260421T115752
CREATED:20250331T074642Z
LAST-MODIFIED:20250331T074642Z
UID:10009341-1743796800-1743802200@juventud.ayto-caceres.es
SUMMARY:Cine "No other land". Filmoteca
DESCRIPTION:No other land\nPaís: Palestina\, Noruega. Año: 2024. Duración: 95’ \nCiclo: Cine y Derechos Humanos
URL:https://juventud.ayto-caceres.es/evento/cine-no-other-land-filmoteca/
CATEGORIES:Cine
ATTACH;FMTTYPE=image/jpeg:https://juventud.ayto-caceres.es/wp-content/uploads/2025/03/nootherland_200.jpg
ORGANIZER;CN="Filmoteca Extremadura":MAILTO:filmoteca@juntaex.es
END:VEVENT
BEGIN:VEVENT
DTSTART;TZID=Europe/Madrid:20250314T203000
DTEND;TZID=Europe/Madrid:20250314T223000
DTSTAMP:20260421T115752
CREATED:20250305T135341Z
LAST-MODIFIED:20250305T135431Z
UID:10009253-1741984200-1741991400@juventud.ayto-caceres.es
SUMMARY:Oldboy
DESCRIPTION:NO RECOMENDADA PARA MENORES DE DIECIOCHO AÑOS\n \nSinopsis: Dae-Su es un hombre de negocios que\, sin motivo aparente\, es secuestrado y confinado en una celda con la única compañía de un televisor. 15 años más tarde\, es liberado sin saber la causa de su encierro. \n\n2004: Festival de Cannes: Gran Premio del Jurado\n2004: Festival de Sitges: Mejor Película\n\nV.O. coreano con subtítulos en castellano
URL:https://juventud.ayto-caceres.es/evento/oldboy/
LOCATION:Filmoteca Extremadura\, C. Rincón de la Monja\, 6\, Cáceres\, Cáceres\, 10003\, España
CATEGORIES:Cine
ATTACH;FMTTYPE=image/jpeg:https://juventud.ayto-caceres.es/wp-content/uploads/2025/03/OLDBOY_200.jpg
ORGANIZER;CN="Filmoteca Extremadura":MAILTO:filmoteca@juntaex.es
END:VEVENT
BEGIN:VEVENT
DTSTART;TZID=Europe/Madrid:20250313T203000
DTEND;TZID=Europe/Madrid:20250313T223000
DTSTAMP:20260421T115752
CREATED:20250305T135105Z
LAST-MODIFIED:20250305T135105Z
UID:10009252-1741897800-1741905000@juventud.ayto-caceres.es
SUMMARY:La mitad de Ana
DESCRIPTION:No recomendada para menores de siete años y distintivo ESPECIALMENTE RECOMENDADA PARA EL FOMENTO DE LA IGUALDAD DE GÉNERO \nSinopsis: Ana compagina su trabajo de vigilante de sala en un museo con el cuidado de Son\, su hija de ocho años. Separada desde hace tiempo\, su rutina se rompe con el inicio del curso escolar cuando Son inicia una exploración de identidad. Desorientada\, Ana empezará a ver las cosas de otra manera y poco a poco tendrá que reencontrarse con la mujer que fue antes de ser madre. \n\n2024: Festival de Valladolid – Seminci: Nominada a Mejor Película – Espiga de Oro.\n\nV.O. castellano y francés con subtítulos en castellano
URL:https://juventud.ayto-caceres.es/evento/la-mitad-de-ana/
LOCATION:Filmoteca Extremadura\, C. Rincón de la Monja\, 6\, Cáceres\, Cáceres\, 10003\, España
CATEGORIES:Cine
ATTACH;FMTTYPE=image/jpeg:https://juventud.ayto-caceres.es/wp-content/uploads/2025/03/la_mitad_de_ana-637677466-large_200.jpg
ORGANIZER;CN="Filmoteca Extremadura":MAILTO:filmoteca@juntaex.es
END:VEVENT
BEGIN:VEVENT
DTSTART;TZID=Europe/Madrid:20250311T203000
DTEND;TZID=Europe/Madrid:20250311T223000
DTSTAMP:20260421T115752
CREATED:20250305T134828Z
LAST-MODIFIED:20250305T134828Z
UID:10009251-1741725000-1741732200@juventud.ayto-caceres.es
SUMMARY:Por donde pasa el silencio
DESCRIPTION:NO RECOMENDADA PARA MENORES DE DIECISÉIS AÑOS \nSinopsis: Antonio\, de 32 años\, tiene que volver a Écija\, una ciudad en el interior de Andalucía\, después de mucho tiempo. Es Semana Santa. Allí se reencuentra con su familia y con su hermano mellizo Javier que tiene una discapacidad física y necesita su ayuda. Antonio tendrá que manejar esta situación y enfrentase a una difícil decisión: quedarse y ayudar a los suyos o volver a la vida que ha construido fuera. \n\n2024: Premios Goya (España): Nominada a Mejor dirección novel.\n2024: Premios Feroz: Nominada a Feroz Arrebato de ficción (Premio Especial)\n\nV.O. castellano
URL:https://juventud.ayto-caceres.es/evento/por-donde-pasa-el-silencio/
LOCATION:Filmoteca Extremadura\, C. Rincón de la Monja\, 6\, Cáceres\, Cáceres\, 10003\, España
CATEGORIES:Cine
ATTACH;FMTTYPE=image/jpeg:https://juventud.ayto-caceres.es/wp-content/uploads/2025/03/por_donde_pasa_el_silencio_200.jpg
ORGANIZER;CN="Filmoteca Extremadura":MAILTO:filmoteca@juntaex.es
END:VEVENT
BEGIN:VEVENT
DTSTART;TZID=Europe/Madrid:20250307T203000
DTEND;TZID=Europe/Madrid:20250307T223000
DTSTAMP:20260421T115752
CREATED:20250305T134430Z
LAST-MODIFIED:20250305T134430Z
UID:10009250-1741379400-1741386600@juventud.ayto-caceres.es
SUMMARY:La guitarra flamenca de Yerai Cortés
DESCRIPTION:NO RECOMENDADA PARA MENORES DE SIETE AÑOS \nSinopsis: Cuando Antón Álvarez\, C.Tangana\, conoce a Yerai Cortés se queda completamente fascinado con su talento. Yerai es una figura inusual dentro del flamenco; tan respetado por los gitanos más tradicionalistas como por los artistas de la nueva ola de la que él forma parte. Deciden emprender un viaje juntos para grabar un disco en el que las canciones vienen marcadas por una gran pena\, donde el propio proceso artístico lo enfrenta con su pasado y lo empuja a explorar un secreto familiar. \n\n2024: Premios Goya: Mejor documental y Mejor canción\n2024: Festival de San Sebastián: Mención Especial (Sección New Directors)\n2024: Premios Forqué: Nominada a Mejor documental.\n\nV.O. castellano
URL:https://juventud.ayto-caceres.es/evento/la-guitarra-flamenca-de-yerai-cortes/
LOCATION:Filmoteca Extremadura\, C. Rincón de la Monja\, 6\, Cáceres\, Cáceres\, 10003\, España
CATEGORIES:Cine
ATTACH;FMTTYPE=image/jpeg:https://juventud.ayto-caceres.es/wp-content/uploads/2025/03/la_guitarra_flamenca_de_yerai_cortes_200.jpg
ORGANIZER;CN="Filmoteca Extremadura":MAILTO:filmoteca@juntaex.es
END:VEVENT
BEGIN:VEVENT
DTSTART;TZID=Europe/Madrid:20250306T203000
DTEND;TZID=Europe/Madrid:20250306T223000
DTSTAMP:20260421T115752
CREATED:20250305T133918Z
LAST-MODIFIED:20250305T133918Z
UID:10009249-1741293000-1741300200@juventud.ayto-caceres.es
SUMMARY:Rita
DESCRIPTION:No recomendada para menores de doce años y distintivo\, ESPECIALMENTE RECOMENDADA PARA EL FOMENTO DE LA IGUALDAD DE GÉNERO \nSinopsis: Sevilla\, junio de 1984. Rita y Lolo son dos hermanos de 7 y 5 años que viven en el seno de una sencilla familia obrera. Comienzan las vacaciones de verano y el país entero está revolucionado con la Eurocopa de fútbol\, donde España ha pasado a los cuartos de final. El calor aprieta y Rita sueña con ir a la playa\, pero la vida en el barrio le tiene reservadas otras sorpresas… \n\n2024: Premios Goya (España): Nominada a Mejor dirección novel.\n2024: Festival Internacional de Mar del Plata: Mención especial. 2 nominaciones.\n\nV.O. castellano
URL:https://juventud.ayto-caceres.es/evento/rita/
LOCATION:Filmoteca Extremadura\, C. Rincón de la Monja\, 6\, Cáceres\, Cáceres\, 10003\, España
CATEGORIES:Cine
ATTACH;FMTTYPE=image/jpeg:https://juventud.ayto-caceres.es/wp-content/uploads/2025/03/rita_200.jpg
ORGANIZER;CN="Filmoteca Extremadura":MAILTO:filmoteca@juntaex.es
END:VEVENT
BEGIN:VEVENT
DTSTART;TZID=Europe/Madrid:20241011T203000
DTEND;TZID=Europe/Madrid:20241011T223000
DTSTAMP:20260421T115752
CREATED:20241009T130227Z
LAST-MODIFIED:20241009T130227Z
UID:10007168-1728678600-1728685800@juventud.ayto-caceres.es
SUMMARY:Documental "Hispanoamérica\, canto de vida y esperanza"
DESCRIPTION:Duración: 115’ \nFecha y hora: Viernes 11 de octubre\, 20:30 horas \nDocumental \nNO RECOMENDADA PARA MENORES DE SIETE AÑOS \nSinopsis: Muestra la historia compartida de Hispanoamérica durante más de 300 años\, a través del esplendor visual que constituye el patrimonio arquitectónico\, pictórico\, escultórico y musical de la época\, aún vigente a día de hoy.
URL:https://juventud.ayto-caceres.es/evento/documental-hispanoamerica-canto-de-vida-y-esperanza/
CATEGORIES:Cine
ATTACH;FMTTYPE=image/jpeg:https://juventud.ayto-caceres.es/wp-content/uploads/2024/10/HIspanoamerica_200.jpg
ORGANIZER;CN="Filmoteca Extremadura":MAILTO:filmoteca@juntaex.es
END:VEVENT
BEGIN:VEVENT
DTSTART;TZID=Europe/Madrid:20241010T203000
DTEND;TZID=Europe/Madrid:20241010T223000
DTSTAMP:20260421T115752
CREATED:20241009T125805Z
LAST-MODIFIED:20241009T125847Z
UID:10007167-1728592200-1728599400@juventud.ayto-caceres.es
SUMMARY:Película "Reinas"
DESCRIPTION:Duración: 104’ \nFecha: Jueves 10 de octubre \nHora: 20:30 horas \nReparto: Abril Gjurinovic\, Luana Vega\, Gonzalo Molina\, Jimena Lindo \nNO RECOMENDADA PARA MENORES DE DOCE AÑOS \nSinopsis: Perú\, años 90. La situación política del país es muy convulsa con los militares controlando las calles. Dos hermanas adolescentes están a punto de abandonar el país cuando se reencuentran inesperadamente con un padre ausente. El reencuentro amplificará y aliviará a la vez su dolor por el cambio inminente.
URL:https://juventud.ayto-caceres.es/evento/pelicula-reinas/
CATEGORIES:Cine
ATTACH;FMTTYPE=image/jpeg:https://juventud.ayto-caceres.es/wp-content/uploads/2024/10/Reinas_200.jpg
ORGANIZER;CN="Filmoteca Extremadura":MAILTO:filmoteca@juntaex.es
END:VEVENT
BEGIN:VEVENT
DTSTART;TZID=Europe/Madrid:20240913T203000
DTEND;TZID=Europe/Madrid:20240913T203000
DTSTAMP:20260421T115752
CREATED:20240910T105653Z
LAST-MODIFIED:20240910T105827Z
UID:10007057-1726259400-1726259400@juventud.ayto-caceres.es
SUMMARY:Película "Els encantats"
DESCRIPTION:Viernes: 13 de septiembre de 2024 \nHora: 20\,30 h \nNO RECOMENDADA PARA MENORES DE SIETE AÑOS \nSinopsis: Tras su reciente separación\, Irene se enfrenta por primera vez a la ausencia de su hija de cuatro años\, que está pasando unos días con su padre. Incapaz de adaptarse a esta nueva realidad\, decide viajar a un pequeño pueblo del pirineo catalán donde tiene una casa\, buscando recuperar la seguridad y la calma que siente que hace tiempo ha perdido. Pero el lugar\, que en el pasado fue tan familiar\, se presenta poco a poco tan abrumador como su nueva vida y la acabará forzando a dejar de huir para enfrentarse a sus miedos.
URL:https://juventud.ayto-caceres.es/evento/pelicula-els-encantats/
LOCATION:Filmoteca Extremadura\, C. Rincón de la Monja\, 6\, Cáceres\, Cáceres\, 10003\, España
CATEGORIES:Cine
ATTACH;FMTTYPE=image/jpeg:https://juventud.ayto-caceres.es/wp-content/uploads/2024/09/els_encantats-200.jpg
ORGANIZER;CN="Filmoteca Extremadura":MAILTO:filmoteca@juntaex.es
END:VEVENT
BEGIN:VEVENT
DTSTART;TZID=Europe/Madrid:20240910T203000
DTEND;TZID=Europe/Madrid:20240910T223000
DTSTAMP:20260421T115752
CREATED:20240910T100034Z
LAST-MODIFIED:20240910T100249Z
UID:10007050-1726000200-1726007400@juventud.ayto-caceres.es
SUMMARY:Película "Klute"
DESCRIPTION:Reparto: Jane Fonda\, Donald Sutherland\, Roy Scheider\, Dorothy Tristan\, Charles Cioffi\, Rita Gam \nNO RECOMENDADA PARA MENORES DE TRECE AÑOS \nSinopsis: En Nueva York\, un hombre ha desaparecido sin dejar rastro. Klute (Donald Sutherland)\, un policía íntimo amigo suyo\, encuentra una pista en las cartas que aquél le escribía a una prostituta llamada Bree (Jane Fonda). Va a verla para interrogarla\, y surge entre ellos una apasionada relación amorosa. Mientras Klute prosigue sus investigaciones en los bajos fondos\, empiezan a aparecer prostitutas asesinadas; entonces le asalta la sospecha de que Bree pueda ser la próxima víctima.
URL:https://juventud.ayto-caceres.es/evento/pelicula-klute/
LOCATION:Filmoteca Extremadura\, C. Rincón de la Monja\, 6\, Cáceres\, Cáceres\, 10003\, España
CATEGORIES:Cine
ATTACH;FMTTYPE=image/jpeg:https://juventud.ayto-caceres.es/wp-content/uploads/2024/09/Klute-200.jpg
ORGANIZER;CN="Filmoteca Extremadura":MAILTO:filmoteca@juntaex.es
END:VEVENT
END:VCALENDAR